{"text_format":"3","workbook":"xlsx","n_sheets":3,"sheets":["2021년 구매실적(월별) -  자체구매 현황","2021년 구매실적(월별) -  조달구매 현황","2021년 구매실적(월별) -  합계"],"read":"whole","date_system":"1900"}

{"sheet":"2021년 구매실적(월별) -  자체구매 현황","index":0,"n_rows":36,"n_cols":15,"rows_kept":36,"merged":[[0,0,0,13],[3,0,5,0],[3,1,5,1],[3,2,3,13],[3,14,5,14],[4,2,4,4],[4,5,4,7],[4,8,4,10],[4,11,4,13],[6,0,9,0],[10,0,13,0],[14,0,17,0],[18,0,21,0],[23,0,24,0],[23,1,24,1],[23,2,23,13],[23,14,24,14],[25,0,27,0],[29,0,30,0],[29,1,30,1],[29,2,29,13],[29,14,30,14],[31,0,33,0],[35,0,35,14]]}
["2021년 구매실적(월별) -  자체구매 현황(단위 : 원)",{"$nulls":13},"2022-01-17 19:59:17 PM"]
[]
[]
["총구매액","총구매액","2021년도 (실적)",{"$nulls":11},"합계"]
[null,null,"1/4",null,null,"2/4",null,null,"3/4",null,null,"4/4"]
[null,null,"1월","2월","3월","4월","5월","6월","7월","8월","9월","10월","11월","12월"]
["총구매액","계",{"$f":"SUM(C8:C10)","v":{"v":368794325,"d":"368,794,325"}},{"v":368794325,"d":"368,794,325"},{"v":648869280,"d":"648,869,280"},{"v":1039130866,"d":"1,039,130,866"},{"v":1039130866,"d":"1,039,130,866"},{"v":1039130866,"d":"1,039,130,866"},{"v":136095790,"d":"136,095,790"},{"v":103520100,"d":"103,520,100"},{"v":147995260,"d":"147,995,260"},{"v":85248260,"d":"85,248,260"},{"v":190716810,"d":"190,716,810"},{"v":389426670,"d":"389,426,670"},{"$f":"SUM(C7:N7)","v":{"v":5556853418,"d":"5,556,853,418"}}]
[null,"물품",{"v":304917045,"d":"304,917,045"},{"v":304917045,"d":"304,917,045"},{"v":596865800,"d":"596,865,800"},{"v":297571843,"d":"297,571,843"},{"v":297571843,"d":"297,571,843"},{"v":297571843,"d":"297,571,843"},{"v":132888570,"d":"132,888,570"},{"v":92712000,"d":"92,712,000"},{"v":112508360,"d":"112,508,360"},{"v":62432750,"d":"62,432,750"},{"v":126645000,"d":"126,645,000"},{"v":261072960,"d":"261,072,960"},{"v":2887675059,"d":"2,887,675,059"}]
[null,"공사",{"v":13299200,"d":"13,299,200"},{"v":13299200,"d":"13,299,200"},{"v":7065000,"d":"7,065,000"},{"v":666332583,"d":"666,332,583"},{"v":666332583,"d":"666,332,583"},{"v":666332583,"d":"666,332,583"},{"v":1865000,"d":"1,865,000"},{"v":4703600,"d":"4,703,600"},{"v":10820500,"d":"10,820,500"},{"v":6127000,"d":"6,127,000"},{"v":14963600,"d":"14,963,600"},{"v":62628060,"d":"62,628,060"},{"v":2133768909,"d":"2,133,768,909"}]
[null,"용역",{"v":50578080,"d":"50,578,080"},{"v":50578080,"d":"50,578,080"},{"v":44938480,"d":"44,938,480"},{"v":75226440,"d":"75,226,440"},{"v":75226440,"d":"75,226,440"},{"v":75226440,"d":"75,226,440"},{"v":1342220,"d":"1,342,220"},{"v":6104500,"d":"6,104,500"},{"v":24666400,"d":"24,666,400"},{"v":16688510,"d":"16,688,510"},{"v":49108210,"d":"49,108,210"},{"v":65725650,"d":"65,725,650"},{"v":535409450,"d":"535,409,450"}]
["중소기업제품구매액","계",{"$f":"SUM(C12:C14)","v":{"v":325459240,"d":"325,459,240"}},{"v":325459240,"d":"325,459,240"},{"v":610425500,"d":"610,425,500"},{"v":1036099876,"d":"1,036,099,876"},{"v":1036099876,"d":"1,036,099,876"},{"v":1036099876,"d":"1,036,099,876"},{"v":95118230,"d":"95,118,230"},{"v":66501740,"d":"66,501,740"},{"v":144479590,"d":"144,479,590"},{"v":84311080,"d":"84,311,080"},{"v":187952530,"d":"187,952,530"},{"v":368779980,"d":"368,779,980"},{"v":5316786758,"d":"5,316,786,758"}]
[null,"물품",{"v":261581960,"d":"261,581,960"},{"v":261581960,"d":"261,581,960"},{"v":558778320,"d":"558,778,320"},{"v":294540853,"d":"294,540,853"},{"v":294540853,"d":"294,540,853"},{"v":294540853,"d":"294,540,853"},{"v":92057310,"d":"92,057,310"},{"v":55839940,"d":"55,839,940"},{"v":108992690,"d":"108,992,690"},{"v":62105430,"d":"62,105,430"},{"v":125030630,"d":"125,030,630"},{"v":261072960,"d":"261,072,960"},{"v":2670663759,"d":"2,670,663,759"}]
[null,"공사",{"v":13299200,"d":"13,299,200"},{"v":13299200,"d":"13,299,200"},{"v":7065000,"d":"7,065,000"},{"v":666332583,"d":"666,332,583"},{"v":666332583,"d":"666,332,583"},{"v":666332583,"d":"666,332,583"},{"v":1865000,"d":"1,865,000"},{"v":4703600,"d":"4,703,600"},{"v":10820500,"d":"10,820,500"},{"v":6127000,"d":"6,127,000"},{"v":14963600,"d":"14,963,600"},{"v":62628060,"d":"62,628,060"},{"v":2133768909,"d":"2,133,768,909"}]
[null,"용역",{"v":50578080,"d":"50,578,080"},{"v":50578080,"d":"50,578,080"},{"v":44582180,"d":"44,582,180"},{"v":75226440,"d":"75,226,440"},{"v":75226440,"d":"75,226,440"},{"v":75226440,"d":"75,226,440"},{"v":1195920,"d":"1,195,920"},{"v":5958200,"d":"5,958,200"},{"v":24666400,"d":"24,666,400"},{"v":16078650,"d":"16,078,650"},{"v":47958300,"d":"47,958,300"},{"v":45078960,"d":"45,078,960"},{"v":512354090,"d":"512,354,090"}]
["여성기업제품구매액","계",{"$f":"SUM(C16:C18)","v":{"v":30853615,"d":"30,853,615"}},{"v":30853615,"d":"30,853,615"},{"v":16299010,"d":"16,299,010"},{"v":31204277,"d":"31,204,277"},{"v":31204277,"d":"31,204,277"},{"v":31204277,"d":"31,204,277"},{"v":2097800,"d":"2,097,800"},{"v":6001650,"d":"6,001,650"},{"v":3335100,"d":"3,335,100"},{"v":6658100,"d":"6,658,100"},{"v":10424020,"d":"10,424,020"},{"v":28788590,"d":"28,788,590"},{"v":228924331,"d":"228,924,331"}]
[null,"물품",{"v":20677915,"d":"20,677,915"},{"v":20677915,"d":"20,677,915"},{"v":14628010,"d":"14,628,010"},{"v":21315977,"d":"21,315,977"},{"v":21315977,"d":"21,315,977"},{"v":21315977,"d":"21,315,977"},{"v":2097800,"d":"2,097,800"},{"v":6001650,"d":"6,001,650"},{"v":3335100,"d":"3,335,100"},{"v":5192900,"d":"5,192,900"},{"v":9900920,"d":"9,900,920"},{"v":18940990,"d":"18,940,990"},{"v":165401131,"d":"165,401,131"}]
[null,"공사",{"v":2037200,"d":"2,037,200"},{"v":2037200,"d":"2,037,200"},{"v":1671000,"d":"1,671,000"},{"v":314967,"d":"314,967"},{"v":314967,"d":"314,967"},{"v":314967,"d":"314,967"},0,0,0,{"v":841500,"d":"841,500"},0,{"v":8012000,"d":"8,012,000"},{"v":15543801,"d":"15,543,801"}]
[null,"용역",{"v":8138500,"d":"8,138,500"},{"v":8138500,"d":"8,138,500"},0,{"v":9573333,"d":"9,573,333"},{"v":9573333,"d":"9,573,333"},{"v":9573333,"d":"9,573,333"},0,0,0,{"v":623700,"d":"623,700"},{"v":523100,"d":"523,100"},{"v":1835600,"d":"1,835,600"},{"v":47979399,"d":"47,979,399"}]
["장애인기업제품구매액","계",{"$f":"SUM(C20:C22)","v":{"v":8751550,"d":"8,751,550"}},{"v":8751550,"d":"8,751,550"},{"v":2055800,"d":"2,055,800"},{"v":4998167,"d":"4,998,167"},{"v":4998167,"d":"4,998,167"},{"v":4998167,"d":"4,998,167"},{"v":118800,"d":"118,800"},{"v":1919800,"d":"1,919,800"},0,{"v":1467400,"d":"1,467,400"},{"v":737200,"d":"737,200"},{"v":1693300,"d":"1,693,300"},{"v":40489901,"d":"40,489,901"}]
[null,"물품",{"v":6870550,"d":"6,870,550"},{"v":6870550,"d":"6,870,550"},0,{"v":3569400,"d":"3,569,400"},{"v":3569400,"d":"3,569,400"},{"v":3569400,"d":"3,569,400"},0,0,0,{"v":625900,"d":"625,900"},{"v":499600,"d":"499,600"},{"v":1574500,"d":"1,574,500"},{"v":27149300,"d":"27,149,300"}]
[null,"공사",{"v":1762200,"d":"1,762,200"},{"v":1762200,"d":"1,762,200"},0,{"v":1309967,"d":"1,309,967"},{"v":1309967,"d":"1,309,967"},{"v":1309967,"d":"1,309,967"},0,{"v":1801000,"d":"1,801,000"},0,{"v":841500,"d":"841,500"},0,0,{"v":10096801,"d":"10,096,801"}]
[null,"용역",{"v":118800,"d":"118,800"},{"v":118800,"d":"118,800"},{"v":2055800,"d":"2,055,800"},{"v":118800,"d":"118,800"},{"v":118800,"d":"118,800"},{"v":118800,"d":"118,800"},{"v":118800,"d":"118,800"},{"v":118800,"d":"118,800"},0,0,{"v":237600,"d":"237,600"},{"v":118800,"d":"118,800"},{"v":3243800,"d":"3,243,800"}]
[]
[null,"구분","2021년도 (실적)",{"$nulls":11},"합계"]
[null,null,"1월","2월","3월","4월","5월","6월","7월","8월","9월","10월","11월","12월"]
["기술개발제품","본부",0,0,0,0,0,{"v":5420000,"d":"5,420,000"},0,0,{"v":16182000,"d":"16,182,000"},{"v":9200000,"d":"9,200,000"},0,{"v":9900000,"d":"9,900,000"},{"$f":"SUM(C26:N26)","v":{"v":40702000,"d":"40,702,000"}}]
[null,"소속기관",0,0,0,0,0,0,0,0,0,0,0,0,{"$f":"SUM(C27:N27)","v":0}]
[null,"계",{"$f":"SUM(C26:C27)","v":0},0,0,0,0,{"v":5420000,"d":"5,420,000"},0,0,{"v":16182000,"d":"16,182,000"},{"v":9200000,"d":"9,200,000"},0,{"v":9900000,"d":"9,900,000"},{"$f":"SUM(C27:N27)","v":0}]
[]
[null,"구분","2021년도 (실적)",{"$nulls":11},"합계"]
[null,null,"1월","2월","3월","4월","5월","6월","7월","8월","9월","10월","11월","12월"]
["공사용자재직접구매실적","본부",0,0,0,0,0,0,0,0,0,0,0,0,{"$f":"SUM(C32:N32)","v":0}]
[null,"소속기관",0,0,0,0,0,0,0,0,0,0,0,0,{"$f":"SUM(C33:N33)","v":0}]
[null,"계",{"$f":"SUM(C32:C33)","v":0},0,0,0,0,0,0,0,0,0,0,0,{"$f":"SUM(C34:N34)","v":0}]
[]
["Copyright(c) 중소기업제품 공공구매 종합정보망(smpp)"]

{"sheet":"2021년 구매실적(월별) -  조달구매 현황","index":1,"n_rows":36,"n_cols":15,"rows_kept":36,"merged":[[0,0,0,13],[3,0,5,0],[3,1,5,1],[3,2,3,13],[3,14,5,14],[4,2,4,4],[4,5,4,7],[4,8,4,10],[4,11,4,13],[6,0,9,0],[10,0,13,0],[14,0,17,0],[18,0,21,0],[23,0,24,0],[23,1,24,1],[23,2,23,13],[23,14,24,14],[25,0,27,0],[29,0,30,0],[29,1,30,1],[29,2,29,13],[29,14,30,14],[31,0,33,0],[35,0,35,14]]}
["2021년 구매실적(월별) -  조달구매 현황(단위 : 원)",{"$nulls":13},"2022-01-17 19:59:02 PM"]
[]
[]
["총구매액","총구매액","2021년도 (실적)",{"$nulls":11},"합계"]
[null,null,"1/4",null,null,"2/4",null,null,"3/4",null,null,"4/4"]
[null,null,"1월","2월","3월","4월","5월","6월","7월","8월","9월","10월","11월","12월"]
["총구매액","계",{"$f":"SUM(C8:C10)","v":0},0,0,0,{"v":319674110,"d":"319,674,110"},0,{"v":884750,"d":"884,750"},{"v":17142070,"d":"17,142,070"},0,0,0,{"v":3014510,"d":"3,014,510"},{"$f":"SUM(C7:N7)","v":{"v":340715440,"d":"340,715,440"}}]
[null,"물품",0,0,0,0,{"v":319674110,"d":"319,674,110"},0,{"v":884750,"d":"884,750"},{"v":17142070,"d":"17,142,070"},0,0,0,{"v":1459840,"d":"1,459,840"},{"v":339160770,"d":"339,160,770"}]
[null,"공사",0,0,0,0,0,0,0,0,0,0,0,0,0]
[null,"용역",0,0,0,0,0,0,0,0,0,0,0,{"v":1554670,"d":"1,554,670"},{"v":1554670,"d":"1,554,670"}]
["중소기업제품구매액","계",{"$f":"SUM(C12:C14)","v":0},0,0,0,{"v":319674110,"d":"319,674,110"},0,{"v":884750,"d":"884,750"},{"v":17142070,"d":"17,142,070"},{"v":741980,"d":"741,980"},0,0,{"v":1459840,"d":"1,459,840"},{"v":339902750,"d":"339,902,750"}]
[null,"물품",0,0,0,0,{"v":319674110,"d":"319,674,110"},0,{"v":884750,"d":"884,750"},{"v":17142070,"d":"17,142,070"},{"v":741980,"d":"741,980"},0,0,{"v":1459840,"d":"1,459,840"},{"v":339902750,"d":"339,902,750"}]
[null,"공사",0,0,0,0,0,0,0,0,0,0,0,0,0]
[null,"용역",0,0,0,0,0,0,0,0,0,0,0,0,0]
["여성기업제품구매액","계",{"$f":"SUM(C16:C18)","v":0},0,0,0,0,0,0,0,0,0,0,0,0]
[null,"물품",0,0,0,0,0,0,0,0,0,0,0,0,0]
[null,"공사",0,0,0,0,0,0,0,0,0,0,0,0,0]
[null,"용역",0,0,0,0,0,0,0,0,0,0,0,0,0]
["장애인기업제품구매액","계",{"$f":"SUM(C20:C22)","v":0},0,0,0,0,0,0,0,0,0,0,0,0]
[null,"물품",0,0,0,0,0,0,0,0,0,0,0,0,0]
[null,"공사",0,0,0,0,0,0,0,0,0,0,0,0,0]
[null,"용역",0,0,0,0,0,0,0,0,0,0,0,0,0]
[]
[null,"구분","2021년도 (실적)",{"$nulls":11},"합계"]
[null,null,"1월","2월","3월","4월","5월","6월","7월","8월","9월","10월","11월","12월"]
["기술개발제품","본부",0,0,0,0,0,0,0,0,0,0,0,0,{"$f":"SUM(C26:N26)","v":0}]
[null,"소속기관",0,0,0,0,0,0,0,0,0,0,0,0,{"$f":"SUM(C27:N27)","v":0}]
[null,"계",{"$f":"SUM(C26:C27)","v":0},0,0,0,0,0,0,0,0,0,0,0,{"$f":"SUM(C27:N27)","v":0}]
[]
[null,"구분","2021년도 (실적)",{"$nulls":11},"합계"]
[null,null,"1월","2월","3월","4월","5월","6월","7월","8월","9월","10월","11월","12월"]
["공사용자재직접구매실적","본부",0,0,0,0,0,0,0,0,0,0,0,0,{"$f":"SUM(C32:N32)","v":0}]
[null,"소속기관",0,0,0,0,0,0,0,0,0,0,0,0,{"$f":"SUM(C33:N33)","v":0}]
[null,"계",{"$f":"SUM(C32:C33)","v":0},0,0,0,0,0,0,0,0,0,0,0,{"$f":"SUM(C34:N34)","v":0}]
[]
["Copyright(c) 중소기업제품 공공구매 종합정보망(smpp)"]

{"sheet":"2021년 구매실적(월별) -  합계","index":2,"n_rows":36,"n_cols":15,"rows_kept":36,"merged":[[0,0,0,13],[3,0,5,0],[3,1,5,1],[3,2,3,13],[3,14,5,14],[4,2,4,4],[4,5,4,7],[4,8,4,10],[4,11,4,13],[6,0,9,0],[10,0,13,0],[14,0,17,0],[18,0,21,0],[23,0,24,0],[23,1,24,1],[23,2,23,13],[23,14,24,14],[25,0,27,0],[29,0,30,0],[29,1,30,1],[29,2,29,13],[29,14,30,14],[31,0,33,0],[35,0,35,14]]}
["2021년 구매실적(월별) -  합계 현황(단위 : 원)",{"$nulls":13},"2022-01-17 19:59:17 PM"]
[]
[]
["총구매액","총구매액","2021년도 (실적)",{"$nulls":11},"합계"]
[null,null,"1/4",null,null,"2/4",null,null,"3/4",null,null,"4/4"]
[null,null,"1월","2월","3월","4월","5월","6월","7월","8월","9월","10월","11월","12월"]
["총구매액","계",{"$f":"'2021년 구매실적(월별) -  자체구매 현황'!C7+'2021년 구매실적(월별) -  조달구매 현황'!C7","v":{"v":368794325,"d":"368,794,325"}},{"$f":"'2021년 구매실적(월별) -  자체구매 현황'!D7+'2021년 구매실적(월별) -  조달구매 현황'!D7","v":{"v":368794325,"d":"368,794,325"}},{"$f":"'2021년 구매실적(월별) -  자체구매 현황'!E7+'2021년 구매실적(월별) -  조달구매 현황'!E7","v":{"v":648869280,"d":"648,869,280"}},{"$f":"'2021년 구매실적(월별) -  자체구매 현황'!F7+'2021년 구매실적(월별) -  조달구매 현황'!F7","v":{"v":1039130866,"d":"1,039,130,866"}},{"$f":"'2021년 구매실적(월별) -  자체구매 현황'!G7+'2021년 구매실적(월별) -  조달구매 현황'!G7","v":{"v":1358804976,"d":"1,358,804,976"}},{"$f":"'2021년 구매실적(월별) -  자체구매 현황'!H7+'2021년 구매실적(월별) -  조달구매 현황'!H7","v":{"v":1039130866,"d":"1,039,130,866"}},{"$f":"'2021년 구매실적(월별) -  자체구매 현황'!I7+'2021년 구매실적(월별) -  조달구매 현황'!I7","v":{"v":136980540,"d":"136,980,540"}},{"$f":"'2021년 구매실적(월별) -  자체구매 현황'!J7+'2021년 구매실적(월별) -  조달구매 현황'!J7","v":{"v":120662170,"d":"120,662,170"}},{"$f":"'2021년 구매실적(월별) -  자체구매 현황'!K7+'2021년 구매실적(월별) -  조달구매 현황'!K7","v":{"v":147995260,"d":"147,995,260"}},{"$f":"'2021년 구매실적(월별) -  자체구매 현황'!L7+'2021년 구매실적(월별) -  조달구매 현황'!L7","v":{"v":85248260,"d":"85,248,260"}},{"$f":"'2021년 구매실적(월별) -  자체구매 현황'!M7+'2021년 구매실적(월별) -  조달구매 현황'!M7","v":{"v":190716810,"d":"190,716,810"}},{"$f":"'2021년 구매실적(월별) -  자체구매 현황'!N7+'2021년 구매실적(월별) -  조달구매 현황'!N7","v":{"v":392441180,"d":"392,441,180"}},{"$f":"'2021년 구매실적(월별) -  자체구매 현황'!O7+'2021년 구매실적(월별) -  조달구매 현황'!O7","v":{"v":5897568858,"d":"5,897,568,858"}}]
[null,"물품",{"$f":"'2021년 구매실적(월별) -  자체구매 현황'!C8+'2021년 구매실적(월별) -  조달구매 현황'!C8","v":{"v":304917045,"d":"304,917,045"}},{"$f":"'2021년 구매실적(월별) -  자체구매 현황'!D8+'2021년 구매실적(월별) -  조달구매 현황'!D8","v":{"v":304917045,"d":"304,917,045"}},{"$f":"'2021년 구매실적(월별) -  자체구매 현황'!E8+'2021년 구매실적(월별) -  조달구매 현황'!E8","v":{"v":596865800,"d":"596,865,800"}},{"$f":"'2021년 구매실적(월별) -  자체구매 현황'!F8+'2021년 구매실적(월별) -  조달구매 현황'!F8","v":{"v":297571843,"d":"297,571,843"}},{"$f":"'2021년 구매실적(월별) -  자체구매 현황'!G8+'2021년 구매실적(월별) -  조달구매 현황'!G8","v":{"v":617245953,"d":"617,245,953"}},{"$f":"'2021년 구매실적(월별) -  자체구매 현황'!H8+'2021년 구매실적(월별) -  조달구매 현황'!H8","v":{"v":297571843,"d":"297,571,843"}},{"$f":"'2021년 구매실적(월별) -  자체구매 현황'!I8+'2021년 구매실적(월별) -  조달구매 현황'!I8","v":{"v":133773320,"d":"133,773,320"}},{"$f":"'2021년 구매실적(월별) -  자체구매 현황'!J8+'2021년 구매실적(월별) -  조달구매 현황'!J8","v":{"v":109854070,"d":"109,854,070"}},{"$f":"'2021년 구매실적(월별) -  자체구매 현황'!K8+'2021년 구매실적(월별) -  조달구매 현황'!K8","v":{"v":112508360,"d":"112,508,360"}},{"$f":"'2021년 구매실적(월별) -  자체구매 현황'!L8+'2021년 구매실적(월별) -  조달구매 현황'!L8","v":{"v":62432750,"d":"62,432,750"}},{"$f":"'2021년 구매실적(월별) -  자체구매 현황'!M8+'2021년 구매실적(월별) -  조달구매 현황'!M8","v":{"v":126645000,"d":"126,645,000"}},{"$f":"'2021년 구매실적(월별) -  자체구매 현황'!N8+'2021년 구매실적(월별) -  조달구매 현황'!N8","v":{"v":262532800,"d":"262,532,800"}},{"$f":"'2021년 구매실적(월별) -  자체구매 현황'!O8+'2021년 구매실적(월별) -  조달구매 현황'!O8","v":{"v":3226835829,"d":"3,226,835,829"}}]
[null,"공사",{"$f":"'2021년 구매실적(월별) -  자체구매 현황'!C9+'2021년 구매실적(월별) -  조달구매 현황'!C9","v":{"v":13299200,"d":"13,299,200"}},{"$f":"'2021년 구매실적(월별) -  자체구매 현황'!D9+'2021년 구매실적(월별) -  조달구매 현황'!D9","v":{"v":13299200,"d":"13,299,200"}},{"$f":"'2021년 구매실적(월별) -  자체구매 현황'!E9+'2021년 구매실적(월별) -  조달구매 현황'!E9","v":{"v":7065000,"d":"7,065,000"}},{"$f":"'2021년 구매실적(월별) -  자체구매 현황'!F9+'2021년 구매실적(월별) -  조달구매 현황'!F9","v":{"v":666332583,"d":"666,332,583"}},{"$f":"'2021년 구매실적(월별) -  자체구매 현황'!G9+'2021년 구매실적(월별) -  조달구매 현황'!G9","v":{"v":666332583,"d":"666,332,583"}},{"$f":"'2021년 구매실적(월별) -  자체구매 현황'!H9+'2021년 구매실적(월별) -  조달구매 현황'!H9","v":{"v":666332583,"d":"666,332,583"}},{"$f":"'2021년 구매실적(월별) -  자체구매 현황'!I9+'2021년 구매실적(월별) -  조달구매 현황'!I9","v":{"v":1865000,"d":"1,865,000"}},{"$f":"'2021년 구매실적(월별) -  자체구매 현황'!J9+'2021년 구매실적(월별) -  조달구매 현황'!J9","v":{"v":4703600,"d":"4,703,600"}},{"$f":"'2021년 구매실적(월별) -  자체구매 현황'!K9+'2021년 구매실적(월별) -  조달구매 현황'!K9","v":{"v":10820500,"d":"10,820,500"}},{"$f":"'2021년 구매실적(월별) -  자체구매 현황'!L9+'2021년 구매실적(월별) -  조달구매 현황'!L9","v":{"v":6127000,"d":"6,127,000"}},{"$f":"'2021년 구매실적(월별) -  자체구매 현황'!M9+'2021년 구매실적(월별) -  조달구매 현황'!M9","v":{"v":14963600,"d":"14,963,600"}},{"$f":"'2021년 구매실적(월별) -  자체구매 현황'!N9+'2021년 구매실적(월별) -  조달구매 현황'!N9","v":{"v":62628060,"d":"62,628,060"}},{"$f":"'2021년 구매실적(월별) -  자체구매 현황'!O9+'2021년 구매실적(월별) -  조달구매 현황'!O9","v":{"v":2133768909,"d":"2,133,768,909"}}]
[null,"용역",{"$f":"'2021년 구매실적(월별) -  자체구매 현황'!C10+'2021년 구매실적(월별) -  조달구매 현황'!C10","v":{"v":50578080,"d":"50,578,080"}},{"$f":"'2021년 구매실적(월별) -  자체구매 현황'!D10+'2021년 구매실적(월별) -  조달구매 현황'!D10","v":{"v":50578080,"d":"50,578,080"}},{"$f":"'2021년 구매실적(월별) -  자체구매 현황'!E10+'2021년 구매실적(월별) -  조달구매 현황'!E10","v":{"v":44938480,"d":"44,938,480"}},{"$f":"'2021년 구매실적(월별) -  자체구매 현황'!F10+'2021년 구매실적(월별) -  조달구매 현황'!F10","v":{"v":75226440,"d":"75,226,440"}},{"$f":"'2021년 구매실적(월별) -  자체구매 현황'!G10+'2021년 구매실적(월별) -  조달구매 현황'!G10","v":{"v":75226440,"d":"75,226,440"}},{"$f":"'2021년 구매실적(월별) -  자체구매 현황'!H10+'2021년 구매실적(월별) -  조달구매 현황'!H10","v":{"v":75226440,"d":"75,226,440"}},{"$f":"'2021년 구매실적(월별) -  자체구매 현황'!I10+'2021년 구매실적(월별) -  조달구매 현황'!I10","v":{"v":1342220,"d":"1,342,220"}},{"$f":"'2021년 구매실적(월별) -  자체구매 현황'!J10+'2021년 구매실적(월별) -  조달구매 현황'!J10","v":{"v":6104500,"d":"6,104,500"}},{"$f":"'2021년 구매실적(월별) -  자체구매 현황'!K10+'2021년 구매실적(월별) -  조달구매 현황'!K10","v":{"v":24666400,"d":"24,666,400"}},{"$f":"'2021년 구매실적(월별) -  자체구매 현황'!L10+'2021년 구매실적(월별) -  조달구매 현황'!L10","v":{"v":16688510,"d":"16,688,510"}},{"$f":"'2021년 구매실적(월별) -  자체구매 현황'!M10+'2021년 구매실적(월별) -  조달구매 현황'!M10","v":{"v":49108210,"d":"49,108,210"}},{"$f":"'2021년 구매실적(월별) -  자체구매 현황'!N10+'2021년 구매실적(월별) -  조달구매 현황'!N10","v":{"v":67280320,"d":"67,280,320"}},{"$f":"'2021년 구매실적(월별) -  자체구매 현황'!O10+'2021년 구매실적(월별) -  조달구매 현황'!O10","v":{"v":536964120,"d":"536,964,120"}}]
["중소기업제품구매액","계",{"$f":"'2021년 구매실적(월별) -  자체구매 현황'!C11+'2021년 구매실적(월별) -  조달구매 현황'!C11","v":{"v":325459240,"d":"325,459,240"}},{"$f":"'2021년 구매실적(월별) -  자체구매 현황'!D11+'2021년 구매실적(월별) -  조달구매 현황'!D11","v":{"v":325459240,"d":"325,459,240"}},{"$f":"'2021년 구매실적(월별) -  자체구매 현황'!E11+'2021년 구매실적(월별) -  조달구매 현황'!E11","v":{"v":610425500,"d":"610,425,500"}},{"$f":"'2021년 구매실적(월별) -  자체구매 현황'!F11+'2021년 구매실적(월별) -  조달구매 현황'!F11","v":{"v":1036099876,"d":"1,036,099,876"}},{"$f":"'2021년 구매실적(월별) -  자체구매 현황'!G11+'2021년 구매실적(월별) -  조달구매 현황'!G11","v":{"v":1355773986,"d":"1,355,773,986"}},{"$f":"'2021년 구매실적(월별) -  자체구매 현황'!H11+'2021년 구매실적(월별) -  조달구매 현황'!H11","v":{"v":1036099876,"d":"1,036,099,876"}},{"$f":"'2021년 구매실적(월별) -  자체구매 현황'!I11+'2021년 구매실적(월별) -  조달구매 현황'!I11","v":{"v":96002980,"d":"96,002,980"}},{"$f":"'2021년 구매실적(월별) -  자체구매 현황'!J11+'2021년 구매실적(월별) -  조달구매 현황'!J11","v":{"v":83643810,"d":"83,643,810"}},{"$f":"'2021년 구매실적(월별) -  자체구매 현황'!K11+'2021년 구매실적(월별) -  조달구매 현황'!K11","v":{"v":145221570,"d":"145,221,570"}},{"$f":"'2021년 구매실적(월별) -  자체구매 현황'!L11+'2021년 구매실적(월별) -  조달구매 현황'!L11","v":{"v":84311080,"d":"84,311,080"}},{"$f":"'2021년 구매실적(월별) -  자체구매 현황'!M11+'2021년 구매실적(월별) -  조달구매 현황'!M11","v":{"v":187952530,"d":"187,952,530"}},{"$f":"'2021년 구매실적(월별) -  자체구매 현황'!N11+'2021년 구매실적(월별) -  조달구매 현황'!N11","v":{"v":370239820,"d":"370,239,820"}},{"$f":"'2021년 구매실적(월별) -  자체구매 현황'!O11+'2021년 구매실적(월별) -  조달구매 현황'!O11","v":{"v":5656689508,"d":"5,656,689,508"}}]
[null,"물품",{"$f":"'2021년 구매실적(월별) -  자체구매 현황'!C12+'2021년 구매실적(월별) -  조달구매 현황'!C12","v":{"v":261581960,"d":"261,581,960"}},{"$f":"'2021년 구매실적(월별) -  자체구매 현황'!D12+'2021년 구매실적(월별) -  조달구매 현황'!D12","v":{"v":261581960,"d":"261,581,960"}},{"$f":"'2021년 구매실적(월별) -  자체구매 현황'!E12+'2021년 구매실적(월별) -  조달구매 현황'!E12","v":{"v":558778320,"d":"558,778,320"}},{"$f":"'2021년 구매실적(월별) -  자체구매 현황'!F12+'2021년 구매실적(월별) -  조달구매 현황'!F12","v":{"v":294540853,"d":"294,540,853"}},{"$f":"'2021년 구매실적(월별) -  자체구매 현황'!G12+'2021년 구매실적(월별) -  조달구매 현황'!G12","v":{"v":614214963,"d":"614,214,963"}},{"$f":"'2021년 구매실적(월별) -  자체구매 현황'!H12+'2021년 구매실적(월별) -  조달구매 현황'!H12","v":{"v":294540853,"d":"294,540,853"}},{"$f":"'2021년 구매실적(월별) -  자체구매 현황'!I12+'2021년 구매실적(월별) -  조달구매 현황'!I12","v":{"v":92942060,"d":"92,942,060"}},{"$f":"'2021년 구매실적(월별) -  자체구매 현황'!J12+'2021년 구매실적(월별) -  조달구매 현황'!J12","v":{"v":72982010,"d":"72,982,010"}},{"$f":"'2021년 구매실적(월별) -  자체구매 현황'!K12+'2021년 구매실적(월별) -  조달구매 현황'!K12","v":{"v":109734670,"d":"109,734,670"}},{"$f":"'2021년 구매실적(월별) -  자체구매 현황'!L12+'2021년 구매실적(월별) -  조달구매 현황'!L12","v":{"v":62105430,"d":"62,105,430"}},{"$f":"'2021년 구매실적(월별) -  자체구매 현황'!M12+'2021년 구매실적(월별) -  조달구매 현황'!M12","v":{"v":125030630,"d":"125,030,630"}},{"$f":"'2021년 구매실적(월별) -  자체구매 현황'!N12+'2021년 구매실적(월별) -  조달구매 현황'!N12","v":{"v":262532800,"d":"262,532,800"}},{"$f":"'2021년 구매실적(월별) -  자체구매 현황'!O12+'2021년 구매실적(월별) -  조달구매 현황'!O12","v":{"v":3010566509,"d":"3,010,566,509"}}]
[null,"공사",{"$f":"'2021년 구매실적(월별) -  자체구매 현황'!C13+'2021년 구매실적(월별) -  조달구매 현황'!C13","v":{"v":13299200,"d":"13,299,200"}},{"$f":"'2021년 구매실적(월별) -  자체구매 현황'!D13+'2021년 구매실적(월별) -  조달구매 현황'!D13","v":{"v":13299200,"d":"13,299,200"}},{"$f":"'2021년 구매실적(월별) -  자체구매 현황'!E13+'2021년 구매실적(월별) -  조달구매 현황'!E13","v":{"v":7065000,"d":"7,065,000"}},{"$f":"'2021년 구매실적(월별) -  자체구매 현황'!F13+'2021년 구매실적(월별) -  조달구매 현황'!F13","v":{"v":666332583,"d":"666,332,583"}},{"$f":"'2021년 구매실적(월별) -  자체구매 현황'!G13+'2021년 구매실적(월별) -  조달구매 현황'!G13","v":{"v":666332583,"d":"666,332,583"}},{"$f":"'2021년 구매실적(월별) -  자체구매 현황'!H13+'2021년 구매실적(월별) -  조달구매 현황'!H13","v":{"v":666332583,"d":"666,332,583"}},{"$f":"'2021년 구매실적(월별) -  자체구매 현황'!I13+'2021년 구매실적(월별) -  조달구매 현황'!I13","v":{"v":1865000,"d":"1,865,000"}},{"$f":"'2021년 구매실적(월별) -  자체구매 현황'!J13+'2021년 구매실적(월별) -  조달구매 현황'!J13","v":{"v":4703600,"d":"4,703,600"}},{"$f":"'2021년 구매실적(월별) -  자체구매 현황'!K13+'2021년 구매실적(월별) -  조달구매 현황'!K13","v":{"v":10820500,"d":"10,820,500"}},{"$f":"'2021년 구매실적(월별) -  자체구매 현황'!L13+'2021년 구매실적(월별) -  조달구매 현황'!L13","v":{"v":6127000,"d":"6,127,000"}},{"$f":"'2021년 구매실적(월별) -  자체구매 현황'!M13+'2021년 구매실적(월별) -  조달구매 현황'!M13","v":{"v":14963600,"d":"14,963,600"}},{"$f":"'2021년 구매실적(월별) -  자체구매 현황'!N13+'2021년 구매실적(월별) -  조달구매 현황'!N13","v":{"v":62628060,"d":"62,628,060"}},{"$f":"'2021년 구매실적(월별) -  자체구매 현황'!O13+'2021년 구매실적(월별) -  조달구매 현황'!O13","v":{"v":2133768909,"d":"2,133,768,909"}}]
[null,"용역",{"$f":"'2021년 구매실적(월별) -  자체구매 현황'!C14+'2021년 구매실적(월별) -  조달구매 현황'!C14","v":{"v":50578080,"d":"50,578,080"}},{"$f":"'2021년 구매실적(월별) -  자체구매 현황'!D14+'2021년 구매실적(월별) -  조달구매 현황'!D14","v":{"v":50578080,"d":"50,578,080"}},{"$f":"'2021년 구매실적(월별) -  자체구매 현황'!E14+'2021년 구매실적(월별) -  조달구매 현황'!E14","v":{"v":44582180,"d":"44,582,180"}},{"$f":"'2021년 구매실적(월별) -  자체구매 현황'!F14+'2021년 구매실적(월별) -  조달구매 현황'!F14","v":{"v":75226440,"d":"75,226,440"}},{"$f":"'2021년 구매실적(월별) -  자체구매 현황'!G14+'2021년 구매실적(월별) -  조달구매 현황'!G14","v":{"v":75226440,"d":"75,226,440"}},{"$f":"'2021년 구매실적(월별) -  자체구매 현황'!H14+'2021년 구매실적(월별) -  조달구매 현황'!H14","v":{"v":75226440,"d":"75,226,440"}},{"$f":"'2021년 구매실적(월별) -  자체구매 현황'!I14+'2021년 구매실적(월별) -  조달구매 현황'!I14","v":{"v":1195920,"d":"1,195,920"}},{"$f":"'2021년 구매실적(월별) -  자체구매 현황'!J14+'2021년 구매실적(월별) -  조달구매 현황'!J14","v":{"v":5958200,"d":"5,958,200"}},{"$f":"'2021년 구매실적(월별) -  자체구매 현황'!K14+'2021년 구매실적(월별) -  조달구매 현황'!K14","v":{"v":24666400,"d":"24,666,400"}},{"$f":"'2021년 구매실적(월별) -  자체구매 현황'!L14+'2021년 구매실적(월별) -  조달구매 현황'!L14","v":{"v":16078650,"d":"16,078,650"}},{"$f":"'2021년 구매실적(월별) -  자체구매 현황'!M14+'2021년 구매실적(월별) -  조달구매 현황'!M14","v":{"v":47958300,"d":"47,958,300"}},{"$f":"'2021년 구매실적(월별) -  자체구매 현황'!N14+'2021년 구매실적(월별) -  조달구매 현황'!N14","v":{"v":45078960,"d":"45,078,960"}},{"$f":"'2021년 구매실적(월별) -  자체구매 현황'!O14+'2021년 구매실적(월별) -  조달구매 현황'!O14","v":{"v":512354090,"d":"512,354,090"}}]
["여성기업제품구매액","계",{"$f":"'2021년 구매실적(월별) -  자체구매 현황'!C15+'2021년 구매실적(월별) -  조달구매 현황'!C15","v":{"v":30853615,"d":"30,853,615"}},{"$f":"'2021년 구매실적(월별) -  자체구매 현황'!D15+'2021년 구매실적(월별) -  조달구매 현황'!D15","v":{"v":30853615,"d":"30,853,615"}},{"$f":"'2021년 구매실적(월별) -  자체구매 현황'!E15+'2021년 구매실적(월별) -  조달구매 현황'!E15","v":{"v":16299010,"d":"16,299,010"}},{"$f":"'2021년 구매실적(월별) -  자체구매 현황'!F15+'2021년 구매실적(월별) -  조달구매 현황'!F15","v":{"v":31204277,"d":"31,204,277"}},{"$f":"'2021년 구매실적(월별) -  자체구매 현황'!G15+'2021년 구매실적(월별) -  조달구매 현황'!G15","v":{"v":31204277,"d":"31,204,277"}},{"$f":"'2021년 구매실적(월별) -  자체구매 현황'!H15+'2021년 구매실적(월별) -  조달구매 현황'!H15","v":{"v":31204277,"d":"31,204,277"}},{"$f":"'2021년 구매실적(월별) -  자체구매 현황'!I15+'2021년 구매실적(월별) -  조달구매 현황'!I15","v":{"v":2097800,"d":"2,097,800"}},{"$f":"'2021년 구매실적(월별) -  자체구매 현황'!J15+'2021년 구매실적(월별) -  조달구매 현황'!J15","v":{"v":6001650,"d":"6,001,650"}},{"$f":"'2021년 구매실적(월별) -  자체구매 현황'!K15+'2021년 구매실적(월별) -  조달구매 현황'!K15","v":{"v":3335100,"d":"3,335,100"}},{"$f":"'2021년 구매실적(월별) -  자체구매 현황'!L15+'2021년 구매실적(월별) -  조달구매 현황'!L15","v":{"v":6658100,"d":"6,658,100"}},{"$f":"'2021년 구매실적(월별) -  자체구매 현황'!M15+'2021년 구매실적(월별) -  조달구매 현황'!M15","v":{"v":10424020,"d":"10,424,020"}},{"$f":"'2021년 구매실적(월별) -  자체구매 현황'!N15+'2021년 구매실적(월별) -  조달구매 현황'!N15","v":{"v":28788590,"d":"28,788,590"}},{"$f":"'2021년 구매실적(월별) -  자체구매 현황'!O15+'2021년 구매실적(월별) -  조달구매 현황'!O15","v":{"v":228924331,"d":"228,924,331"}}]
[null,"물품",{"$f":"'2021년 구매실적(월별) -  자체구매 현황'!C16+'2021년 구매실적(월별) -  조달구매 현황'!C16","v":{"v":20677915,"d":"20,677,915"}},{"$f":"'2021년 구매실적(월별) -  자체구매 현황'!D16+'2021년 구매실적(월별) -  조달구매 현황'!D16","v":{"v":20677915,"d":"20,677,915"}},{"$f":"'2021년 구매실적(월별) -  자체구매 현황'!E16+'2021년 구매실적(월별) -  조달구매 현황'!E16","v":{"v":14628010,"d":"14,628,010"}},{"$f":"'2021년 구매실적(월별) -  자체구매 현황'!F16+'2021년 구매실적(월별) -  조달구매 현황'!F16","v":{"v":21315977,"d":"21,315,977"}},{"$f":"'2021년 구매실적(월별) -  자체구매 현황'!G16+'2021년 구매실적(월별) -  조달구매 현황'!G16","v":{"v":21315977,"d":"21,315,977"}},{"$f":"'2021년 구매실적(월별) -  자체구매 현황'!H16+'2021년 구매실적(월별) -  조달구매 현황'!H16","v":{"v":21315977,"d":"21,315,977"}},{"$f":"'2021년 구매실적(월별) -  자체구매 현황'!I16+'2021년 구매실적(월별) -  조달구매 현황'!I16","v":{"v":2097800,"d":"2,097,800"}},{"$f":"'2021년 구매실적(월별) -  자체구매 현황'!J16+'2021년 구매실적(월별) -  조달구매 현황'!J16","v":{"v":6001650,"d":"6,001,650"}},{"$f":"'2021년 구매실적(월별) -  자체구매 현황'!K16+'2021년 구매실적(월별) -  조달구매 현황'!K16","v":{"v":3335100,"d":"3,335,100"}},{"$f":"'2021년 구매실적(월별) -  자체구매 현황'!L16+'2021년 구매실적(월별) -  조달구매 현황'!L16","v":{"v":5192900,"d":"5,192,900"}},{"$f":"'2021년 구매실적(월별) -  자체구매 현황'!M16+'2021년 구매실적(월별) -  조달구매 현황'!M16","v":{"v":9900920,"d":"9,900,920"}},{"$f":"'2021년 구매실적(월별) -  자체구매 현황'!N16+'2021년 구매실적(월별) -  조달구매 현황'!N16","v":{"v":18940990,"d":"18,940,990"}},{"$f":"'2021년 구매실적(월별) -  자체구매 현황'!O16+'2021년 구매실적(월별) -  조달구매 현황'!O16","v":{"v":165401131,"d":"165,401,131"}}]
[null,"공사",{"$f":"'2021년 구매실적(월별) -  자체구매 현황'!C17+'2021년 구매실적(월별) -  조달구매 현황'!C17","v":{"v":2037200,"d":"2,037,200"}},{"$f":"'2021년 구매실적(월별) -  자체구매 현황'!D17+'2021년 구매실적(월별) -  조달구매 현황'!D17","v":{"v":2037200,"d":"2,037,200"}},{"$f":"'2021년 구매실적(월별) -  자체구매 현황'!E17+'2021년 구매실적(월별) -  조달구매 현황'!E17","v":{"v":1671000,"d":"1,671,000"}},{"$f":"'2021년 구매실적(월별) -  자체구매 현황'!F17+'2021년 구매실적(월별) -  조달구매 현황'!F17","v":{"v":314967,"d":"314,967"}},{"$f":"'2021년 구매실적(월별) -  자체구매 현황'!G17+'2021년 구매실적(월별) -  조달구매 현황'!G17","v":{"v":314967,"d":"314,967"}},{"$f":"'2021년 구매실적(월별) -  자체구매 현황'!H17+'2021년 구매실적(월별) -  조달구매 현황'!H17","v":{"v":314967,"d":"314,967"}},{"$f":"'2021년 구매실적(월별) -  자체구매 현황'!I17+'2021년 구매실적(월별) -  조달구매 현황'!I17","v":0},{"$f":"'2021년 구매실적(월별) -  자체구매 현황'!J17+'2021년 구매실적(월별) -  조달구매 현황'!J17","v":0},{"$f":"'2021년 구매실적(월별) -  자체구매 현황'!K17+'2021년 구매실적(월별) -  조달구매 현황'!K17","v":0},{"$f":"'2021년 구매실적(월별) -  자체구매 현황'!L17+'2021년 구매실적(월별) -  조달구매 현황'!L17","v":{"v":841500,"d":"841,500"}},{"$f":"'2021년 구매실적(월별) -  자체구매 현황'!M17+'2021년 구매실적(월별) -  조달구매 현황'!M17","v":0},{"$f":"'2021년 구매실적(월별) -  자체구매 현황'!N17+'2021년 구매실적(월별) -  조달구매 현황'!N17","v":{"v":8012000,"d":"8,012,000"}},{"$f":"'2021년 구매실적(월별) -  자체구매 현황'!O17+'2021년 구매실적(월별) -  조달구매 현황'!O17","v":{"v":15543801,"d":"15,543,801"}}]
[null,"용역",{"$f":"'2021년 구매실적(월별) -  자체구매 현황'!C18+'2021년 구매실적(월별) -  조달구매 현황'!C18","v":{"v":8138500,"d":"8,138,500"}},{"$f":"'2021년 구매실적(월별) -  자체구매 현황'!D18+'2021년 구매실적(월별) -  조달구매 현황'!D18","v":{"v":8138500,"d":"8,138,500"}},{"$f":"'2021년 구매실적(월별) -  자체구매 현황'!E18+'2021년 구매실적(월별) -  조달구매 현황'!E18","v":0},{"$f":"'2021년 구매실적(월별) -  자체구매 현황'!F18+'2021년 구매실적(월별) -  조달구매 현황'!F18","v":{"v":9573333,"d":"9,573,333"}},{"$f":"'2021년 구매실적(월별) -  자체구매 현황'!G18+'2021년 구매실적(월별) -  조달구매 현황'!G18","v":{"v":9573333,"d":"9,573,333"}},{"$f":"'2021년 구매실적(월별) -  자체구매 현황'!H18+'2021년 구매실적(월별) -  조달구매 현황'!H18","v":{"v":9573333,"d":"9,573,333"}},{"$f":"'2021년 구매실적(월별) -  자체구매 현황'!I18+'2021년 구매실적(월별) -  조달구매 현황'!I18","v":0},{"$f":"'2021년 구매실적(월별) -  자체구매 현황'!J18+'2021년 구매실적(월별) -  조달구매 현황'!J18","v":0},{"$f":"'2021년 구매실적(월별) -  자체구매 현황'!K18+'2021년 구매실적(월별) -  조달구매 현황'!K18","v":0},{"$f":"'2021년 구매실적(월별) -  자체구매 현황'!L18+'2021년 구매실적(월별) -  조달구매 현황'!L18","v":{"v":623700,"d":"623,700"}},{"$f":"'2021년 구매실적(월별) -  자체구매 현황'!M18+'2021년 구매실적(월별) -  조달구매 현황'!M18","v":{"v":523100,"d":"523,100"}},{"$f":"'2021년 구매실적(월별) -  자체구매 현황'!N18+'2021년 구매실적(월별) -  조달구매 현황'!N18","v":{"v":1835600,"d":"1,835,600"}},{"$f":"'2021년 구매실적(월별) -  자체구매 현황'!O18+'2021년 구매실적(월별) -  조달구매 현황'!O18","v":{"v":47979399,"d":"47,979,399"}}]
["장애인기업제품구매액","계",{"$f":"'2021년 구매실적(월별) -  자체구매 현황'!C19+'2021년 구매실적(월별) -  조달구매 현황'!C19","v":{"v":8751550,"d":"8,751,550"}},{"$f":"'2021년 구매실적(월별) -  자체구매 현황'!D19+'2021년 구매실적(월별) -  조달구매 현황'!D19","v":{"v":8751550,"d":"8,751,550"}},{"$f":"'2021년 구매실적(월별) -  자체구매 현황'!E19+'2021년 구매실적(월별) -  조달구매 현황'!E19","v":{"v":2055800,"d":"2,055,800"}},{"$f":"'2021년 구매실적(월별) -  자체구매 현황'!F19+'2021년 구매실적(월별) -  조달구매 현황'!F19","v":{"v":4998167,"d":"4,998,167"}},{"$f":"'2021년 구매실적(월별) -  자체구매 현황'!G19+'2021년 구매실적(월별) -  조달구매 현황'!G19","v":{"v":4998167,"d":"4,998,167"}},{"$f":"'2021년 구매실적(월별) -  자체구매 현황'!H19+'2021년 구매실적(월별) -  조달구매 현황'!H19","v":{"v":4998167,"d":"4,998,167"}},{"$f":"'2021년 구매실적(월별) -  자체구매 현황'!I19+'2021년 구매실적(월별) -  조달구매 현황'!I19","v":{"v":118800,"d":"118,800"}},{"$f":"'2021년 구매실적(월별) -  자체구매 현황'!J19+'2021년 구매실적(월별) -  조달구매 현황'!J19","v":{"v":1919800,"d":"1,919,800"}},{"$f":"'2021년 구매실적(월별) -  자체구매 현황'!K19+'2021년 구매실적(월별) -  조달구매 현황'!K19","v":0},{"$f":"'2021년 구매실적(월별) -  자체구매 현황'!L19+'2021년 구매실적(월별) -  조달구매 현황'!L19","v":{"v":1467400,"d":"1,467,400"}},{"$f":"'2021년 구매실적(월별) -  자체구매 현황'!M19+'2021년 구매실적(월별) -  조달구매 현황'!M19","v":{"v":737200,"d":"737,200"}},{"$f":"'2021년 구매실적(월별) -  자체구매 현황'!N19+'2021년 구매실적(월별) -  조달구매 현황'!N19","v":{"v":1693300,"d":"1,693,300"}},{"$f":"'2021년 구매실적(월별) -  자체구매 현황'!O19+'2021년 구매실적(월별) -  조달구매 현황'!O19","v":{"v":40489901,"d":"40,489,901"}}]
[null,"물품",{"$f":"'2021년 구매실적(월별) -  자체구매 현황'!C20+'2021년 구매실적(월별) -  조달구매 현황'!C20","v":{"v":6870550,"d":"6,870,550"}},{"$f":"'2021년 구매실적(월별) -  자체구매 현황'!D20+'2021년 구매실적(월별) -  조달구매 현황'!D20","v":{"v":6870550,"d":"6,870,550"}},{"$f":"'2021년 구매실적(월별) -  자체구매 현황'!E20+'2021년 구매실적(월별) -  조달구매 현황'!E20","v":0},{"$f":"'2021년 구매실적(월별) -  자체구매 현황'!F20+'2021년 구매실적(월별) -  조달구매 현황'!F20","v":{"v":3569400,"d":"3,569,400"}},{"$f":"'2021년 구매실적(월별) -  자체구매 현황'!G20+'2021년 구매실적(월별) -  조달구매 현황'!G20","v":{"v":3569400,"d":"3,569,400"}},{"$f":"'2021년 구매실적(월별) -  자체구매 현황'!H20+'2021년 구매실적(월별) -  조달구매 현황'!H20","v":{"v":3569400,"d":"3,569,400"}},{"$f":"'2021년 구매실적(월별) -  자체구매 현황'!I20+'2021년 구매실적(월별) -  조달구매 현황'!I20","v":0},{"$f":"'2021년 구매실적(월별) -  자체구매 현황'!J20+'2021년 구매실적(월별) -  조달구매 현황'!J20","v":0},{"$f":"'2021년 구매실적(월별) -  자체구매 현황'!K20+'2021년 구매실적(월별) -  조달구매 현황'!K20","v":0},{"$f":"'2021년 구매실적(월별) -  자체구매 현황'!L20+'2021년 구매실적(월별) -  조달구매 현황'!L20","v":{"v":625900,"d":"625,900"}},{"$f":"'2021년 구매실적(월별) -  자체구매 현황'!M20+'2021년 구매실적(월별) -  조달구매 현황'!M20","v":{"v":499600,"d":"499,600"}},{"$f":"'2021년 구매실적(월별) -  자체구매 현황'!N20+'2021년 구매실적(월별) -  조달구매 현황'!N20","v":{"v":1574500,"d":"1,574,500"}},{"$f":"'2021년 구매실적(월별) -  자체구매 현황'!O20+'2021년 구매실적(월별) -  조달구매 현황'!O20","v":{"v":27149300,"d":"27,149,300"}}]
[null,"공사",{"$f":"'2021년 구매실적(월별) -  자체구매 현황'!C21+'2021년 구매실적(월별) -  조달구매 현황'!C21","v":{"v":1762200,"d":"1,762,200"}},{"$f":"'2021년 구매실적(월별) -  자체구매 현황'!D21+'2021년 구매실적(월별) -  조달구매 현황'!D21","v":{"v":1762200,"d":"1,762,200"}},{"$f":"'2021년 구매실적(월별) -  자체구매 현황'!E21+'2021년 구매실적(월별) -  조달구매 현황'!E21","v":0},{"$f":"'2021년 구매실적(월별) -  자체구매 현황'!F21+'2021년 구매실적(월별) -  조달구매 현황'!F21","v":{"v":1309967,"d":"1,309,967"}},{"$f":"'2021년 구매실적(월별) -  자체구매 현황'!G21+'2021년 구매실적(월별) -  조달구매 현황'!G21","v":{"v":1309967,"d":"1,309,967"}},{"$f":"'2021년 구매실적(월별) -  자체구매 현황'!H21+'2021년 구매실적(월별) -  조달구매 현황'!H21","v":{"v":1309967,"d":"1,309,967"}},{"$f":"'2021년 구매실적(월별) -  자체구매 현황'!I21+'2021년 구매실적(월별) -  조달구매 현황'!I21","v":0},{"$f":"'2021년 구매실적(월별) -  자체구매 현황'!J21+'2021년 구매실적(월별) -  조달구매 현황'!J21","v":{"v":1801000,"d":"1,801,000"}},{"$f":"'2021년 구매실적(월별) -  자체구매 현황'!K21+'2021년 구매실적(월별) -  조달구매 현황'!K21","v":0},{"$f":"'2021년 구매실적(월별) -  자체구매 현황'!L21+'2021년 구매실적(월별) -  조달구매 현황'!L21","v":{"v":841500,"d":"841,500"}},{"$f":"'2021년 구매실적(월별) -  자체구매 현황'!M21+'2021년 구매실적(월별) -  조달구매 현황'!M21","v":0},{"$f":"'2021년 구매실적(월별) -  자체구매 현황'!N21+'2021년 구매실적(월별) -  조달구매 현황'!N21","v":0},{"$f":"'2021년 구매실적(월별) -  자체구매 현황'!O21+'2021년 구매실적(월별) -  조달구매 현황'!O21","v":{"v":10096801,"d":"10,096,801"}}]
[null,"용역",{"$f":"'2021년 구매실적(월별) -  자체구매 현황'!C22+'2021년 구매실적(월별) -  조달구매 현황'!C22","v":{"v":118800,"d":"118,800"}},{"$f":"'2021년 구매실적(월별) -  자체구매 현황'!D22+'2021년 구매실적(월별) -  조달구매 현황'!D22","v":{"v":118800,"d":"118,800"}},{"$f":"'2021년 구매실적(월별) -  자체구매 현황'!E22+'2021년 구매실적(월별) -  조달구매 현황'!E22","v":{"v":2055800,"d":"2,055,800"}},{"$f":"'2021년 구매실적(월별) -  자체구매 현황'!F22+'2021년 구매실적(월별) -  조달구매 현황'!F22","v":{"v":118800,"d":"118,800"}},{"$f":"'2021년 구매실적(월별) -  자체구매 현황'!G22+'2021년 구매실적(월별) -  조달구매 현황'!G22","v":{"v":118800,"d":"118,800"}},{"$f":"'2021년 구매실적(월별) -  자체구매 현황'!H22+'2021년 구매실적(월별) -  조달구매 현황'!H22","v":{"v":118800,"d":"118,800"}},{"$f":"'2021년 구매실적(월별) -  자체구매 현황'!I22+'2021년 구매실적(월별) -  조달구매 현황'!I22","v":{"v":118800,"d":"118,800"}},{"$f":"'2021년 구매실적(월별) -  자체구매 현황'!J22+'2021년 구매실적(월별) -  조달구매 현황'!J22","v":{"v":118800,"d":"118,800"}},{"$f":"'2021년 구매실적(월별) -  자체구매 현황'!K22+'2021년 구매실적(월별) -  조달구매 현황'!K22","v":0},{"$f":"'2021년 구매실적(월별) -  자체구매 현황'!L22+'2021년 구매실적(월별) -  조달구매 현황'!L22","v":0},{"$f":"'2021년 구매실적(월별) -  자체구매 현황'!M22+'2021년 구매실적(월별) -  조달구매 현황'!M22","v":{"v":237600,"d":"237,600"}},{"$f":"'2021년 구매실적(월별) -  자체구매 현황'!N22+'2021년 구매실적(월별) -  조달구매 현황'!N22","v":{"v":118800,"d":"118,800"}},{"$f":"'2021년 구매실적(월별) -  자체구매 현황'!O22+'2021년 구매실적(월별) -  조달구매 현황'!O22","v":{"v":3243800,"d":"3,243,800"}}]
[]
[null,"구분","2021년도 (실적)",{"$nulls":11},"합계"]
[null,null,"1월","2월","3월","4월","5월","6월","7월","8월","9월","10월","11월","12월"]
["기술개발제품","본부",{"$f":"'2021년 구매실적(월별) -  자체구매 현황'!C26+'2021년 구매실적(월별) -  조달구매 현황'!C26","v":0},{"$f":"'2021년 구매실적(월별) -  자체구매 현황'!D26+'2021년 구매실적(월별) -  조달구매 현황'!D26","v":0},{"$f":"'2021년 구매실적(월별) -  자체구매 현황'!E26+'2021년 구매실적(월별) -  조달구매 현황'!E26","v":0},{"$f":"'2021년 구매실적(월별) -  자체구매 현황'!F26+'2021년 구매실적(월별) -  조달구매 현황'!F26","v":0},{"$f":"'2021년 구매실적(월별) -  자체구매 현황'!G26+'2021년 구매실적(월별) -  조달구매 현황'!G26","v":0},{"$f":"'2021년 구매실적(월별) -  자체구매 현황'!H26+'2021년 구매실적(월별) -  조달구매 현황'!H26","v":{"v":5420000,"d":"5,420,000"}},{"$f":"'2021년 구매실적(월별) -  자체구매 현황'!I26+'2021년 구매실적(월별) -  조달구매 현황'!I26","v":0},{"$f":"'2021년 구매실적(월별) -  자체구매 현황'!J26+'2021년 구매실적(월별) -  조달구매 현황'!J26","v":0},{"$f":"'2021년 구매실적(월별) -  자체구매 현황'!K26+'2021년 구매실적(월별) -  조달구매 현황'!K26","v":{"v":16182000,"d":"16,182,000"}},{"$f":"'2021년 구매실적(월별) -  자체구매 현황'!L26+'2021년 구매실적(월별) -  조달구매 현황'!L26","v":{"v":9200000,"d":"9,200,000"}},{"$f":"'2021년 구매실적(월별) -  자체구매 현황'!M26+'2021년 구매실적(월별) -  조달구매 현황'!M26","v":0},{"$f":"'2021년 구매실적(월별) -  자체구매 현황'!N26+'2021년 구매실적(월별) -  조달구매 현황'!N26","v":{"v":9900000,"d":"9,900,000"}},{"$f":"'2021년 구매실적(월별) -  자체구매 현황'!O26+'2021년 구매실적(월별) -  조달구매 현황'!O26","v":{"v":40702000,"d":"40,702,000"}}]
[null,"소속기관",{"$f":"'2021년 구매실적(월별) -  자체구매 현황'!C27+'2021년 구매실적(월별) -  조달구매 현황'!C27","v":0},{"$f":"'2021년 구매실적(월별) -  자체구매 현황'!D27+'2021년 구매실적(월별) -  조달구매 현황'!D27","v":0},{"$f":"'2021년 구매실적(월별) -  자체구매 현황'!E27+'2021년 구매실적(월별) -  조달구매 현황'!E27","v":0},{"$f":"'2021년 구매실적(월별) -  자체구매 현황'!F27+'2021년 구매실적(월별) -  조달구매 현황'!F27","v":0},{"$f":"'2021년 구매실적(월별) -  자체구매 현황'!G27+'2021년 구매실적(월별) -  조달구매 현황'!G27","v":0},{"$f":"'2021년 구매실적(월별) -  자체구매 현황'!H27+'2021년 구매실적(월별) -  조달구매 현황'!H27","v":0},{"$f":"'2021년 구매실적(월별) -  자체구매 현황'!I27+'2021년 구매실적(월별) -  조달구매 현황'!I27","v":0},{"$f":"'2021년 구매실적(월별) -  자체구매 현황'!J27+'2021년 구매실적(월별) -  조달구매 현황'!J27","v":0},{"$f":"'2021년 구매실적(월별) -  자체구매 현황'!K27+'2021년 구매실적(월별) -  조달구매 현황'!K27","v":0},{"$f":"'2021년 구매실적(월별) -  자체구매 현황'!L27+'2021년 구매실적(월별) -  조달구매 현황'!L27","v":0},{"$f":"'2021년 구매실적(월별) -  자체구매 현황'!M27+'2021년 구매실적(월별) -  조달구매 현황'!M27","v":0},{"$f":"'2021년 구매실적(월별) -  자체구매 현황'!N27+'2021년 구매실적(월별) -  조달구매 현황'!N27","v":0},{"$f":"'2021년 구매실적(월별) -  자체구매 현황'!O27+'2021년 구매실적(월별) -  조달구매 현황'!O27","v":0}]
[null,"계",{"$f":"'2021년 구매실적(월별) -  자체구매 현황'!C28+'2021년 구매실적(월별) -  조달구매 현황'!C28","v":0},{"$f":"'2021년 구매실적(월별) -  자체구매 현황'!D28+'2021년 구매실적(월별) -  조달구매 현황'!D28","v":0},{"$f":"'2021년 구매실적(월별) -  자체구매 현황'!E28+'2021년 구매실적(월별) -  조달구매 현황'!E28","v":0},{"$f":"'2021년 구매실적(월별) -  자체구매 현황'!F28+'2021년 구매실적(월별) -  조달구매 현황'!F28","v":0},{"$f":"'2021년 구매실적(월별) -  자체구매 현황'!G28+'2021년 구매실적(월별) -  조달구매 현황'!G28","v":0},{"$f":"'2021년 구매실적(월별) -  자체구매 현황'!H28+'2021년 구매실적(월별) -  조달구매 현황'!H28","v":{"v":5420000,"d":"5,420,000"}},{"$f":"'2021년 구매실적(월별) -  자체구매 현황'!I28+'2021년 구매실적(월별) -  조달구매 현황'!I28","v":0},{"$f":"'2021년 구매실적(월별) -  자체구매 현황'!J28+'2021년 구매실적(월별) -  조달구매 현황'!J28","v":0},{"$f":"'2021년 구매실적(월별) -  자체구매 현황'!K28+'2021년 구매실적(월별) -  조달구매 현황'!K28","v":{"v":16182000,"d":"16,182,000"}},{"$f":"'2021년 구매실적(월별) -  자체구매 현황'!L28+'2021년 구매실적(월별) -  조달구매 현황'!L28","v":{"v":9200000,"d":"9,200,000"}},{"$f":"'2021년 구매실적(월별) -  자체구매 현황'!M28+'2021년 구매실적(월별) -  조달구매 현황'!M28","v":0},{"$f":"'2021년 구매실적(월별) -  자체구매 현황'!N28+'2021년 구매실적(월별) -  조달구매 현황'!N28","v":{"v":9900000,"d":"9,900,000"}},{"$f":"'2021년 구매실적(월별) -  자체구매 현황'!O28+'2021년 구매실적(월별) -  조달구매 현황'!O28","v":0}]
[]
[null,"구분","2021년도 (실적)",{"$nulls":11},"합계"]
[null,null,"1월","2월","3월","4월","5월","6월","7월","8월","9월","10월","11월","12월"]
["공사용자재직접구매실적","본부",{"$f":"'2021년 구매실적(월별) -  자체구매 현황'!C32+'2021년 구매실적(월별) -  조달구매 현황'!C32","v":0},{"$f":"'2021년 구매실적(월별) -  자체구매 현황'!D32+'2021년 구매실적(월별) -  조달구매 현황'!D32","v":0},{"$f":"'2021년 구매실적(월별) -  자체구매 현황'!E32+'2021년 구매실적(월별) -  조달구매 현황'!E32","v":0},{"$f":"'2021년 구매실적(월별) -  자체구매 현황'!F32+'2021년 구매실적(월별) -  조달구매 현황'!F32","v":0},{"$f":"'2021년 구매실적(월별) -  자체구매 현황'!G32+'2021년 구매실적(월별) -  조달구매 현황'!G32","v":0},{"$f":"'2021년 구매실적(월별) -  자체구매 현황'!H32+'2021년 구매실적(월별) -  조달구매 현황'!H32","v":0},{"$f":"'2021년 구매실적(월별) -  자체구매 현황'!I32+'2021년 구매실적(월별) -  조달구매 현황'!I32","v":0},{"$f":"'2021년 구매실적(월별) -  자체구매 현황'!J32+'2021년 구매실적(월별) -  조달구매 현황'!J32","v":0},{"$f":"'2021년 구매실적(월별) -  자체구매 현황'!K32+'2021년 구매실적(월별) -  조달구매 현황'!K32","v":0},{"$f":"'2021년 구매실적(월별) -  자체구매 현황'!L32+'2021년 구매실적(월별) -  조달구매 현황'!L32","v":0},{"$f":"'2021년 구매실적(월별) -  자체구매 현황'!M32+'2021년 구매실적(월별) -  조달구매 현황'!M32","v":0},{"$f":"'2021년 구매실적(월별) -  자체구매 현황'!N32+'2021년 구매실적(월별) -  조달구매 현황'!N32","v":0},{"$f":"'2021년 구매실적(월별) -  자체구매 현황'!O32+'2021년 구매실적(월별) -  조달구매 현황'!O32","v":0}]
[null,"소속기관",{"$f":"'2021년 구매실적(월별) -  자체구매 현황'!C33+'2021년 구매실적(월별) -  조달구매 현황'!C33","v":0},{"$f":"'2021년 구매실적(월별) -  자체구매 현황'!D33+'2021년 구매실적(월별) -  조달구매 현황'!D33","v":0},{"$f":"'2021년 구매실적(월별) -  자체구매 현황'!E33+'2021년 구매실적(월별) -  조달구매 현황'!E33","v":0},{"$f":"'2021년 구매실적(월별) -  자체구매 현황'!F33+'2021년 구매실적(월별) -  조달구매 현황'!F33","v":0},{"$f":"'2021년 구매실적(월별) -  자체구매 현황'!G33+'2021년 구매실적(월별) -  조달구매 현황'!G33","v":0},{"$f":"'2021년 구매실적(월별) -  자체구매 현황'!H33+'2021년 구매실적(월별) -  조달구매 현황'!H33","v":0},{"$f":"'2021년 구매실적(월별) -  자체구매 현황'!I33+'2021년 구매실적(월별) -  조달구매 현황'!I33","v":0},{"$f":"'2021년 구매실적(월별) -  자체구매 현황'!J33+'2021년 구매실적(월별) -  조달구매 현황'!J33","v":0},{"$f":"'2021년 구매실적(월별) -  자체구매 현황'!K33+'2021년 구매실적(월별) -  조달구매 현황'!K33","v":0},{"$f":"'2021년 구매실적(월별) -  자체구매 현황'!L33+'2021년 구매실적(월별) -  조달구매 현황'!L33","v":0},{"$f":"'2021년 구매실적(월별) -  자체구매 현황'!M33+'2021년 구매실적(월별) -  조달구매 현황'!M33","v":0},{"$f":"'2021년 구매실적(월별) -  자체구매 현황'!N33+'2021년 구매실적(월별) -  조달구매 현황'!N33","v":0},{"$f":"'2021년 구매실적(월별) -  자체구매 현황'!O33+'2021년 구매실적(월별) -  조달구매 현황'!O33","v":0}]
[null,"계",{"$f":"'2021년 구매실적(월별) -  자체구매 현황'!C34+'2021년 구매실적(월별) -  조달구매 현황'!C34","v":0},null,{"$f":"'2021년 구매실적(월별) -  자체구매 현황'!E34+'2021년 구매실적(월별) -  조달구매 현황'!E34","v":0},{"$f":"'2021년 구매실적(월별) -  자체구매 현황'!F34+'2021년 구매실적(월별) -  조달구매 현황'!F34","v":0},{"$f":"'2021년 구매실적(월별) -  자체구매 현황'!G34+'2021년 구매실적(월별) -  조달구매 현황'!G34","v":0},{"$f":"'2021년 구매실적(월별) -  자체구매 현황'!H34+'2021년 구매실적(월별) -  조달구매 현황'!H34","v":0},{"$f":"'2021년 구매실적(월별) -  자체구매 현황'!I34+'2021년 구매실적(월별) -  조달구매 현황'!I34","v":0},{"$f":"'2021년 구매실적(월별) -  자체구매 현황'!J34+'2021년 구매실적(월별) -  조달구매 현황'!J34","v":0},{"$f":"'2021년 구매실적(월별) -  자체구매 현황'!K34+'2021년 구매실적(월별) -  조달구매 현황'!K34","v":0},{"$f":"'2021년 구매실적(월별) -  자체구매 현황'!L34+'2021년 구매실적(월별) -  조달구매 현황'!L34","v":0},{"$f":"'2021년 구매실적(월별) -  자체구매 현황'!M34+'2021년 구매실적(월별) -  조달구매 현황'!M34","v":0},{"$f":"'2021년 구매실적(월별) -  자체구매 현황'!N34+'2021년 구매실적(월별) -  조달구매 현황'!N34","v":0},{"$f":"'2021년 구매실적(월별) -  자체구매 현황'!O34+'2021년 구매실적(월별) -  조달구매 현황'!O34","v":0}]
[]
["Copyright(c) 중소기업제품 공공구매 종합정보망(smpp)"]