{"text_format":"3","workbook":"xlsx","n_sheets":3,"sheets":["2022년 구매실적(월별) -  자체구매 현황","2022년 구매실적(월별) -  조달구매 현황","합계"],"read":"whole","date_system":"1900"}

{"sheet":"2022년 구매실적(월별) -  자체구매 현황","index":0,"n_rows":36,"n_cols":15,"rows_kept":36,"merged":[[0,0,0,13],[3,0,5,0],[3,1,5,1],[3,2,3,13],[3,14,5,14],[4,2,4,4],[4,5,4,7],[4,8,4,10],[4,11,4,13],[6,0,9,0],[10,0,13,0],[14,0,17,0],[18,0,21,0],[23,0,24,0],[23,1,24,1],[23,2,23,13],[23,14,24,14],[25,0,27,0],[29,0,30,0],[29,1,30,1],[29,2,29,13],[29,14,30,14],[31,0,33,0],[35,0,35,14]]}
["2022년 구매실적(월별) -  자체구매 현황(단위 : 원)",{"$nulls":13},"2023-01-17 20:20:17 PM"]
[]
[]
["총구매액","총구매액","2022년도 (실적)",{"$nulls":11},"합계"]
[null,null,"1/4",null,null,"2/4",null,null,"3/4",null,null,"4/4"]
[null,null,"1월","2월","3월","4월","5월","6월","7월","8월","9월","10월","11월","12월"]
["총구매액","계",{"$f":"SUM(C8:C10)","v":{"v":49251070,"d":"49,251,070"}},{"v":66021500,"d":"66,021,500"},{"v":125323170,"d":"125,323,170"},{"v":351778920,"d":"351,778,920"},{"v":398134600,"d":"398,134,600"},{"v":1351699210,"d":"1,351,699,210"},{"v":280641540,"d":"280,641,540"},{"v":408142200,"d":"408,142,200"},{"v":382183430,"d":"382,183,430"},{"v":488501610,"d":"488,501,610"},{"v":476976610,"d":"476,976,610"},{"v":1597049364,"d":"1,597,049,364"},{"$f":"SUM(C7:N7)","v":{"v":5975703224,"d":"5,975,703,224"}}]
[null,"물품",{"v":11579890,"d":"11,579,890"},{"v":44345000,"d":"44,345,000"},{"v":73348600,"d":"73,348,600"},{"v":242215110,"d":"242,215,110"},{"v":233728520,"d":"233,728,520"},{"v":280262040,"d":"280,262,040"},{"v":167604660,"d":"167,604,660"},{"v":298527420,"d":"298,527,420"},{"v":259482370,"d":"259,482,370"},{"v":284031860,"d":"284,031,860"},{"v":271433260,"d":"271,433,260"},{"v":706317354,"d":"706,317,354"},{"v":2872876084,"d":"2,872,876,084"}]
[null,"공사",{"v":1984000,"d":"1,984,000"},{"v":4144000,"d":"4,144,000"},{"v":338000,"d":"338,000"},{"v":25055000,"d":"25,055,000"},0,{"v":895597300,"d":"895,597,300"},{"v":20742000,"d":"20,742,000"},{"v":36884830,"d":"36,884,830"},{"v":37210700,"d":"37,210,700"},{"v":72960090,"d":"72,960,090"},{"v":100367360,"d":"100,367,360"},{"v":504805500,"d":"504,805,500"},{"v":1700088780,"d":"1,700,088,780"}]
[null,"용역",{"v":35687180,"d":"35,687,180"},{"v":17532500,"d":"17,532,500"},{"v":51636570,"d":"51,636,570"},{"v":84508810,"d":"84,508,810"},{"v":164406080,"d":"164,406,080"},{"v":175839870,"d":"175,839,870"},{"v":92294880,"d":"92,294,880"},{"v":72729950,"d":"72,729,950"},{"v":85490360,"d":"85,490,360"},{"v":131509660,"d":"131,509,660"},{"v":105175990,"d":"105,175,990"},{"v":385926510,"d":"385,926,510"},{"v":1402738360,"d":"1,402,738,360"}]
["중소기업제품구매액","계",{"$f":"SUM(C12:C14)","v":{"v":29531830,"d":"29,531,830"}},{"v":66021500,"d":"66,021,500"},{"v":112034910,"d":"112,034,910"},{"v":329352930,"d":"329,352,930"},{"v":365624890,"d":"365,624,890"},{"v":1279213520,"d":"1,279,213,520"},{"v":210126570,"d":"210,126,570"},{"v":339727970,"d":"339,727,970"},{"v":293684650,"d":"293,684,650"},{"v":408361030,"d":"408,361,030"},{"v":379901600,"d":"379,901,600"},{"v":1239061340,"d":"1,239,061,340"},{"v":5052642740,"d":"5,052,642,740"}]
[null,"물품",{"v":10606390,"d":"10,606,390"},{"v":44345000,"d":"44,345,000"},{"v":70647600,"d":"70,647,600"},{"v":236965110,"d":"236,965,110"},{"v":233178520,"d":"233,178,520"},{"v":240284150,"d":"240,284,150"},{"v":122555470,"d":"122,555,470"},{"v":246100590,"d":"246,100,590"},{"v":203950960,"d":"203,950,960"},{"v":239421810,"d":"239,421,810"},{"v":200430880,"d":"200,430,880"},{"v":396588860,"d":"396,588,860"},{"v":2245075340,"d":"2,245,075,340"}]
[null,"공사",{"v":1984000,"d":"1,984,000"},{"v":4144000,"d":"4,144,000"},{"v":338000,"d":"338,000"},{"v":25055000,"d":"25,055,000"},0,{"v":895597300,"d":"895,597,300"},{"v":20742000,"d":"20,742,000"},{"v":36884830,"d":"36,884,830"},{"v":37210700,"d":"37,210,700"},{"v":72796590,"d":"72,796,590"},{"v":100367360,"d":"100,367,360"},{"v":504805500,"d":"504,805,500"},{"v":1699925280,"d":"1,699,925,280"}]
[null,"용역",{"v":16941440,"d":"16,941,440"},{"v":17532500,"d":"17,532,500"},{"v":41049310,"d":"41,049,310"},{"v":67332820,"d":"67,332,820"},{"v":132446370,"d":"132,446,370"},{"v":143332070,"d":"143,332,070"},{"v":66829100,"d":"66,829,100"},{"v":56742550,"d":"56,742,550"},{"v":52522990,"d":"52,522,990"},{"v":96142630,"d":"96,142,630"},{"v":79103360,"d":"79,103,360"},{"v":337666980,"d":"337,666,980"},{"v":1107642120,"d":"1,107,642,120"}]
["여성기업제품구매액","계",{"$f":"SUM(C16:C18)","v":{"v":77000,"d":"77,000"}},{"v":4372800,"d":"4,372,800"},{"v":27032420,"d":"27,032,420"},{"v":49811980,"d":"49,811,980"},{"v":21804530,"d":"21,804,530"},{"v":155356740,"d":"155,356,740"},{"v":20362440,"d":"20,362,440"},{"v":41621980,"d":"41,621,980"},{"v":32830510,"d":"32,830,510"},{"v":30207280,"d":"30,207,280"},{"v":54377350,"d":"54,377,350"},{"v":144535120,"d":"144,535,120"},{"v":582390150,"d":"582,390,150"}]
[null,"물품",{"v":77000,"d":"77,000"},{"v":4372800,"d":"4,372,800"},{"v":13080920,"d":"13,080,920"},{"v":39800500,"d":"39,800,500"},{"v":21804530,"d":"21,804,530"},{"v":30940040,"d":"30,940,040"},{"v":14653920,"d":"14,653,920"},{"v":15685480,"d":"15,685,480"},{"v":19371560,"d":"19,371,560"},{"v":16690380,"d":"16,690,380"},{"v":30991950,"d":"30,991,950"},{"v":25696820,"d":"25,696,820"},{"v":233165900,"d":"233,165,900"}]
[null,"공사",0,0,0,{"v":3520000,"d":"3,520,000"},0,{"v":117883000,"d":"117,883,000"},0,{"v":7667500,"d":"7,667,500"},{"v":1936000,"d":"1,936,000"},0,{"v":4244000,"d":"4,244,000"},{"v":90592300,"d":"90,592,300"},{"v":225842800,"d":"225,842,800"}]
[null,"용역",0,0,{"v":13951500,"d":"13,951,500"},{"v":6491480,"d":"6,491,480"},0,{"v":6533700,"d":"6,533,700"},{"v":5708520,"d":"5,708,520"},{"v":18269000,"d":"18,269,000"},{"v":11522950,"d":"11,522,950"},{"v":13516900,"d":"13,516,900"},{"v":19141400,"d":"19,141,400"},{"v":28246000,"d":"28,246,000"},{"v":123381450,"d":"123,381,450"}]
["장애인기업제품구매액","계",{"$f":"SUM(C20:C22)","v":{"v":792000,"d":"792,000"}},0,{"v":5471000,"d":"5,471,000"},{"v":3233000,"d":"3,233,000"},{"v":6142000,"d":"6,142,000"},{"v":1925000,"d":"1,925,000"},{"v":3175610,"d":"3,175,610"},{"v":7714900,"d":"7,714,900"},{"v":1176400,"d":"1,176,400"},{"v":8011800,"d":"8,011,800"},{"v":4746600,"d":"4,746,600"},{"v":23893600,"d":"23,893,600"},{"v":66281910,"d":"66,281,910"}]
[null,"물품",{"v":792000,"d":"792,000"},0,{"v":5471000,"d":"5,471,000"},{"v":3233000,"d":"3,233,000"},{"v":6142000,"d":"6,142,000"},{"v":1925000,"d":"1,925,000"},{"v":3175610,"d":"3,175,610"},{"v":7714900,"d":"7,714,900"},{"v":1176400,"d":"1,176,400"},{"v":8011800,"d":"8,011,800"},{"v":4746600,"d":"4,746,600"},{"v":18013600,"d":"18,013,600"},{"v":60401910,"d":"60,401,910"}]
[null,"공사",0,0,0,0,0,0,0,0,0,0,0,{"v":5880000,"d":"5,880,000"},{"v":5880000,"d":"5,880,000"}]
[null,"용역",0,0,0,0,0,0,0,0,0,0,0,0,0]
[]
[null,"구분","2022년도 (실적)",{"$nulls":11},"합계"]
[null,null,"1월","2월","3월","4월","5월","6월","7월","8월","9월","10월","11월","12월"]
["기술개발제품","본부",0,0,0,0,{"v":13752000,"d":"13,752,000"},0,0,0,0,0,0,0,{"$f":"SUM(C26:N26)","v":{"v":13752000,"d":"13,752,000"}}]
[null,"소속기관",0,0,0,0,0,0,0,0,0,0,0,0,{"$f":"SUM(C27:N27)","v":0}]
[null,"계",{"$f":"SUM(C26:C27)","v":0},0,0,0,{"v":13752000,"d":"13,752,000"},0,0,0,0,0,0,0,{"$f":"SUM(C27:N27)","v":0}]
[]
[null,"구분","2022년도 (실적)",{"$nulls":11},"합계"]
[null,null,"1월","2월","3월","4월","5월","6월","7월","8월","9월","10월","11월","12월"]
["공사용자재직접구매실적","본부",0,0,0,0,0,0,0,0,0,0,0,0,{"$f":"SUM(C32:N32)","v":0}]
[null,"소속기관",0,0,0,0,0,0,0,0,0,0,0,0,{"$f":"SUM(C33:N33)","v":0}]
[null,"계",{"$f":"SUM(C32:C33)","v":0},0,0,0,0,0,0,0,0,0,0,0,{"$f":"SUM(C34:N34)","v":0}]
[]
["Copyright(c) 중소기업제품 공공구매 종합정보망(smpp)"]

{"sheet":"2022년 구매실적(월별) -  조달구매 현황","index":1,"n_rows":36,"n_cols":15,"rows_kept":36,"merged":[[0,0,0,13],[3,0,5,0],[3,1,5,1],[3,2,3,13],[3,14,5,14],[4,2,4,4],[4,5,4,7],[4,8,4,10],[4,11,4,13],[6,0,9,0],[10,0,13,0],[14,0,17,0],[18,0,21,0],[23,0,24,0],[23,1,24,1],[23,2,23,13],[23,14,24,14],[25,0,27,0],[29,0,30,0],[29,1,30,1],[29,2,29,13],[29,14,30,14],[31,0,33,0],[35,0,35,14]]}
["2022년 구매실적(월별) -  조달구매 현황(단위 : 원)",{"$nulls":13},"2023-01-17 20:20:49 PM"]
[]
[]
["총구매액","총구매액","2022년도 (실적)",{"$nulls":11},"합계"]
[null,null,"1/4",null,null,"2/4",null,null,"3/4",null,null,"4/4"]
[null,null,"1월","2월","3월","4월","5월","6월","7월","8월","9월","10월","11월","12월"]
["총구매액","계",{"$f":"SUM(C8:C10)","v":0},{"v":1125440,"d":"1,125,440"},{"v":2742390,"d":"2,742,390"},{"v":38411720,"d":"38,411,720"},{"v":525371570,"d":"525,371,570"},{"v":23490610,"d":"23,490,610"},{"v":20075960,"d":"20,075,960"},{"v":139937520,"d":"139,937,520"},{"v":20600480,"d":"20,600,480"},{"v":1910260,"d":"1,910,260"},{"v":20570480,"d":"20,570,480"},{"v":44599680,"d":"44,599,680"},{"$f":"SUM(C7:N7)","v":{"v":838836110,"d":"838,836,110"}}]
[null,"물품",0,{"v":1125440,"d":"1,125,440"},{"v":2562390,"d":"2,562,390"},{"v":38411720,"d":"38,411,720"},{"v":525371570,"d":"525,371,570"},{"v":23327820,"d":"23,327,820"},{"v":20025960,"d":"20,025,960"},{"v":139927520,"d":"139,927,520"},{"v":20570480,"d":"20,570,480"},{"v":1910260,"d":"1,910,260"},{"v":20570480,"d":"20,570,480"},{"v":43243850,"d":"43,243,850"},{"v":837047490,"d":"837,047,490"}]
[null,"공사",0,0,0,0,0,0,0,0,0,0,0,0,0]
[null,"용역",0,0,{"v":180000,"d":"180,000"},0,0,{"v":162790,"d":"162,790"},{"v":50000,"d":"50,000"},{"v":10000,"d":"10,000"},{"v":30000,"d":"30,000"},0,0,{"v":1355830,"d":"1,355,830"},{"v":1788620,"d":"1,788,620"}]
["중소기업제품구매액","계",{"$f":"SUM(C12:C14)","v":0},0,0,{"v":38411720,"d":"38,411,720"},{"v":522887900,"d":"522,887,900"},{"v":22978000,"d":"22,978,000"},{"v":20075960,"d":"20,075,960"},{"v":139937520,"d":"139,937,520"},{"v":20600480,"d":"20,600,480"},{"v":1910260,"d":"1,910,260"},{"v":20570480,"d":"20,570,480"},{"v":44599680,"d":"44,599,680"},{"v":831972000,"d":"831,972,000"}]
[null,"물품",0,0,0,{"v":38411720,"d":"38,411,720"},{"v":522887900,"d":"522,887,900"},{"v":22815210,"d":"22,815,210"},{"v":20025960,"d":"20,025,960"},{"v":139927520,"d":"139,927,520"},{"v":20570480,"d":"20,570,480"},{"v":1910260,"d":"1,910,260"},{"v":20570480,"d":"20,570,480"},{"v":43243850,"d":"43,243,850"},{"v":830363380,"d":"830,363,380"}]
[null,"공사",0,0,0,0,0,0,0,0,0,0,0,0,0]
[null,"용역",0,0,0,0,0,{"v":162790,"d":"162,790"},{"v":50000,"d":"50,000"},{"v":10000,"d":"10,000"},{"v":30000,"d":"30,000"},0,0,{"v":1355830,"d":"1,355,830"},{"v":1608620,"d":"1,608,620"}]
["여성기업제품구매액","계",{"$f":"SUM(C16:C18)","v":0},0,0,0,0,0,0,0,0,0,0,0,0]
[null,"물품",0,0,0,0,0,0,0,0,0,0,0,0,0]
[null,"공사",0,0,0,0,0,0,0,0,0,0,0,0,0]
[null,"용역",0,0,0,0,0,0,0,0,0,0,0,0,0]
["장애인기업제품구매액","계",{"$f":"SUM(C20:C22)","v":0},0,0,0,0,0,0,0,0,0,0,0,0]
[null,"물품",0,0,0,0,0,0,0,0,0,0,0,0,0]
[null,"공사",0,0,0,0,0,0,0,0,0,0,0,0,0]
[null,"용역",0,0,0,0,0,0,0,0,0,0,0,0,0]
[]
[null,"구분","2022년도 (실적)",{"$nulls":11},"합계"]
[null,null,"1월","2월","3월","4월","5월","6월","7월","8월","9월","10월","11월","12월"]
["기술개발제품","본부",0,0,0,0,{"v":29444540,"d":"29,444,540"},0,{"v":1925000,"d":"1,925,000"},0,0,0,0,{"v":831600,"d":"831,600"},{"$f":"SUM(C26:N26)","v":{"v":32201140,"d":"32,201,140"}}]
[null,"소속기관",0,0,0,0,0,0,0,0,0,0,0,0,{"$f":"SUM(C27:N27)","v":0}]
[null,"계",{"$f":"SUM(C26:C27)","v":0},0,0,0,{"v":29444540,"d":"29,444,540"},0,{"v":1925000,"d":"1,925,000"},0,0,0,0,{"v":831600,"d":"831,600"},{"$f":"SUM(C27:N27)","v":0}]
[]
[null,"구분","2022년도 (실적)",{"$nulls":11},"합계"]
[null,null,"1월","2월","3월","4월","5월","6월","7월","8월","9월","10월","11월","12월"]
["공사용자재직접구매실적","본부",0,0,0,0,0,0,0,0,0,0,0,0,{"$f":"SUM(C32:N32)","v":0}]
[null,"소속기관",0,0,0,0,0,0,0,0,0,0,0,0,{"$f":"SUM(C33:N33)","v":0}]
[null,"계",{"$f":"SUM(C32:C33)","v":0},0,0,0,0,0,0,0,0,0,0,0,{"$f":"SUM(C34:N34)","v":0}]
[]
["Copyright(c) 중소기업제품 공공구매 종합정보망(smpp)"]

{"sheet":"합계","index":2,"n_rows":36,"n_cols":15,"rows_kept":36,"merged":[[0,0,0,13],[3,0,5,0],[3,1,5,1],[3,2,3,13],[3,14,5,14],[4,2,4,4],[4,5,4,7],[4,8,4,10],[4,11,4,13],[6,0,9,0],[10,0,13,0],[14,0,17,0],[18,0,21,0],[23,0,24,0],[23,1,24,1],[23,2,23,13],[23,14,24,14],[25,0,27,0],[29,0,30,0],[29,1,30,1],[29,2,29,13],[29,14,30,14],[31,0,33,0],[35,0,35,14]]}
["2022년 구매실적(월별) -  구매 현황(단위 : 원)",{"$nulls":13},"2023-01-17 20:20:17 PM"]
[]
[]
["총구매액","총구매액","2022년도 (실적)",{"$nulls":11},"합계"]
[null,null,"1/4",null,null,"2/4",null,null,"3/4",null,null,"4/4"]
[null,null,"1월","2월","3월","4월","5월","6월","7월","8월","9월","10월","11월","12월"]
["총구매액","계",{"$f":"SUM('2022년 구매실적(월별) -  조달구매 현황'!C7,'2022년 구매실적(월별) -  자체구매 현황'!C7)","v":{"v":49251070,"d":"49,251,070"}},{"$f":"SUM('2022년 구매실적(월별) -  조달구매 현황'!D7,'2022년 구매실적(월별) -  자체구매 현황'!D7)","v":{"v":67146940,"d":"67,146,940"}},{"$f":"SUM('2022년 구매실적(월별) -  조달구매 현황'!E7,'2022년 구매실적(월별) -  자체구매 현황'!E7)","v":{"v":128065560,"d":"128,065,560"}},{"$f":"SUM('2022년 구매실적(월별) -  조달구매 현황'!F7,'2022년 구매실적(월별) -  자체구매 현황'!F7)","v":{"v":390190640,"d":"390,190,640"}},{"$f":"SUM('2022년 구매실적(월별) -  조달구매 현황'!G7,'2022년 구매실적(월별) -  자체구매 현황'!G7)","v":{"v":923506170,"d":"923,506,170"}},{"$f":"SUM('2022년 구매실적(월별) -  조달구매 현황'!H7,'2022년 구매실적(월별) -  자체구매 현황'!H7)","v":{"v":1375189820,"d":"1,375,189,820"}},{"$f":"SUM('2022년 구매실적(월별) -  조달구매 현황'!I7,'2022년 구매실적(월별) -  자체구매 현황'!I7)","v":{"v":300717500,"d":"300,717,500"}},{"$f":"SUM('2022년 구매실적(월별) -  조달구매 현황'!J7,'2022년 구매실적(월별) -  자체구매 현황'!J7)","v":{"v":548079720,"d":"548,079,720"}},{"$f":"SUM('2022년 구매실적(월별) -  조달구매 현황'!K7,'2022년 구매실적(월별) -  자체구매 현황'!K7)","v":{"v":402783910,"d":"402,783,910"}},{"$f":"SUM('2022년 구매실적(월별) -  조달구매 현황'!L7,'2022년 구매실적(월별) -  자체구매 현황'!L7)","v":{"v":490411870,"d":"490,411,870"}},{"$f":"SUM('2022년 구매실적(월별) -  조달구매 현황'!M7,'2022년 구매실적(월별) -  자체구매 현황'!M7)","v":{"v":497547090,"d":"497,547,090"}},{"$f":"SUM('2022년 구매실적(월별) -  조달구매 현황'!N7,'2022년 구매실적(월별) -  자체구매 현황'!N7)","v":{"v":1641649044,"d":"1,641,649,044"}},{"$f":"SUM('2022년 구매실적(월별) -  조달구매 현황'!O7,'2022년 구매실적(월별) -  자체구매 현황'!O7)","v":{"v":6814539334,"d":"6,814,539,334"}}]
[null,"물품",{"$f":"SUM('2022년 구매실적(월별) -  조달구매 현황'!C8,'2022년 구매실적(월별) -  자체구매 현황'!C8)","v":{"v":11579890,"d":"11,579,890"}},{"$f":"SUM('2022년 구매실적(월별) -  조달구매 현황'!D8,'2022년 구매실적(월별) -  자체구매 현황'!D8)","v":{"v":45470440,"d":"45,470,440"}},{"$f":"SUM('2022년 구매실적(월별) -  조달구매 현황'!E8,'2022년 구매실적(월별) -  자체구매 현황'!E8)","v":{"v":75910990,"d":"75,910,990"}},{"$f":"SUM('2022년 구매실적(월별) -  조달구매 현황'!F8,'2022년 구매실적(월별) -  자체구매 현황'!F8)","v":{"v":280626830,"d":"280,626,830"}},{"$f":"SUM('2022년 구매실적(월별) -  조달구매 현황'!G8,'2022년 구매실적(월별) -  자체구매 현황'!G8)","v":{"v":759100090,"d":"759,100,090"}},{"$f":"SUM('2022년 구매실적(월별) -  조달구매 현황'!H8,'2022년 구매실적(월별) -  자체구매 현황'!H8)","v":{"v":303589860,"d":"303,589,860"}},{"$f":"SUM('2022년 구매실적(월별) -  조달구매 현황'!I8,'2022년 구매실적(월별) -  자체구매 현황'!I8)","v":{"v":187630620,"d":"187,630,620"}},{"$f":"SUM('2022년 구매실적(월별) -  조달구매 현황'!J8,'2022년 구매실적(월별) -  자체구매 현황'!J8)","v":{"v":438454940,"d":"438,454,940"}},{"$f":"SUM('2022년 구매실적(월별) -  조달구매 현황'!K8,'2022년 구매실적(월별) -  자체구매 현황'!K8)","v":{"v":280052850,"d":"280,052,850"}},{"$f":"SUM('2022년 구매실적(월별) -  조달구매 현황'!L8,'2022년 구매실적(월별) -  자체구매 현황'!L8)","v":{"v":285942120,"d":"285,942,120"}},{"$f":"SUM('2022년 구매실적(월별) -  조달구매 현황'!M8,'2022년 구매실적(월별) -  자체구매 현황'!M8)","v":{"v":292003740,"d":"292,003,740"}},{"$f":"SUM('2022년 구매실적(월별) -  조달구매 현황'!N8,'2022년 구매실적(월별) -  자체구매 현황'!N8)","v":{"v":749561204,"d":"749,561,204"}},{"$f":"SUM('2022년 구매실적(월별) -  조달구매 현황'!O8,'2022년 구매실적(월별) -  자체구매 현황'!O8)","v":{"v":3709923574,"d":"3,709,923,574"}}]
[null,"공사",{"$f":"SUM('2022년 구매실적(월별) -  조달구매 현황'!C9,'2022년 구매실적(월별) -  자체구매 현황'!C9)","v":{"v":1984000,"d":"1,984,000"}},{"$f":"SUM('2022년 구매실적(월별) -  조달구매 현황'!D9,'2022년 구매실적(월별) -  자체구매 현황'!D9)","v":{"v":4144000,"d":"4,144,000"}},{"$f":"SUM('2022년 구매실적(월별) -  조달구매 현황'!E9,'2022년 구매실적(월별) -  자체구매 현황'!E9)","v":{"v":338000,"d":"338,000"}},{"$f":"SUM('2022년 구매실적(월별) -  조달구매 현황'!F9,'2022년 구매실적(월별) -  자체구매 현황'!F9)","v":{"v":25055000,"d":"25,055,000"}},{"$f":"SUM('2022년 구매실적(월별) -  조달구매 현황'!G9,'2022년 구매실적(월별) -  자체구매 현황'!G9)","v":0},{"$f":"SUM('2022년 구매실적(월별) -  조달구매 현황'!H9,'2022년 구매실적(월별) -  자체구매 현황'!H9)","v":{"v":895597300,"d":"895,597,300"}},{"$f":"SUM('2022년 구매실적(월별) -  조달구매 현황'!I9,'2022년 구매실적(월별) -  자체구매 현황'!I9)","v":{"v":20742000,"d":"20,742,000"}},{"$f":"SUM('2022년 구매실적(월별) -  조달구매 현황'!J9,'2022년 구매실적(월별) -  자체구매 현황'!J9)","v":{"v":36884830,"d":"36,884,830"}},{"$f":"SUM('2022년 구매실적(월별) -  조달구매 현황'!K9,'2022년 구매실적(월별) -  자체구매 현황'!K9)","v":{"v":37210700,"d":"37,210,700"}},{"$f":"SUM('2022년 구매실적(월별) -  조달구매 현황'!L9,'2022년 구매실적(월별) -  자체구매 현황'!L9)","v":{"v":72960090,"d":"72,960,090"}},{"$f":"SUM('2022년 구매실적(월별) -  조달구매 현황'!M9,'2022년 구매실적(월별) -  자체구매 현황'!M9)","v":{"v":100367360,"d":"100,367,360"}},{"$f":"SUM('2022년 구매실적(월별) -  조달구매 현황'!N9,'2022년 구매실적(월별) -  자체구매 현황'!N9)","v":{"v":504805500,"d":"504,805,500"}},{"$f":"SUM('2022년 구매실적(월별) -  조달구매 현황'!O9,'2022년 구매실적(월별) -  자체구매 현황'!O9)","v":{"v":1700088780,"d":"1,700,088,780"}}]
[null,"용역",{"$f":"SUM('2022년 구매실적(월별) -  조달구매 현황'!C10,'2022년 구매실적(월별) -  자체구매 현황'!C10)","v":{"v":35687180,"d":"35,687,180"}},{"$f":"SUM('2022년 구매실적(월별) -  조달구매 현황'!D10,'2022년 구매실적(월별) -  자체구매 현황'!D10)","v":{"v":17532500,"d":"17,532,500"}},{"$f":"SUM('2022년 구매실적(월별) -  조달구매 현황'!E10,'2022년 구매실적(월별) -  자체구매 현황'!E10)","v":{"v":51816570,"d":"51,816,570"}},{"$f":"SUM('2022년 구매실적(월별) -  조달구매 현황'!F10,'2022년 구매실적(월별) -  자체구매 현황'!F10)","v":{"v":84508810,"d":"84,508,810"}},{"$f":"SUM('2022년 구매실적(월별) -  조달구매 현황'!G10,'2022년 구매실적(월별) -  자체구매 현황'!G10)","v":{"v":164406080,"d":"164,406,080"}},{"$f":"SUM('2022년 구매실적(월별) -  조달구매 현황'!H10,'2022년 구매실적(월별) -  자체구매 현황'!H10)","v":{"v":176002660,"d":"176,002,660"}},{"$f":"SUM('2022년 구매실적(월별) -  조달구매 현황'!I10,'2022년 구매실적(월별) -  자체구매 현황'!I10)","v":{"v":92344880,"d":"92,344,880"}},{"$f":"SUM('2022년 구매실적(월별) -  조달구매 현황'!J10,'2022년 구매실적(월별) -  자체구매 현황'!J10)","v":{"v":72739950,"d":"72,739,950"}},{"$f":"SUM('2022년 구매실적(월별) -  조달구매 현황'!K10,'2022년 구매실적(월별) -  자체구매 현황'!K10)","v":{"v":85520360,"d":"85,520,360"}},{"$f":"SUM('2022년 구매실적(월별) -  조달구매 현황'!L10,'2022년 구매실적(월별) -  자체구매 현황'!L10)","v":{"v":131509660,"d":"131,509,660"}},{"$f":"SUM('2022년 구매실적(월별) -  조달구매 현황'!M10,'2022년 구매실적(월별) -  자체구매 현황'!M10)","v":{"v":105175990,"d":"105,175,990"}},{"$f":"SUM('2022년 구매실적(월별) -  조달구매 현황'!N10,'2022년 구매실적(월별) -  자체구매 현황'!N10)","v":{"v":387282340,"d":"387,282,340"}},{"$f":"SUM('2022년 구매실적(월별) -  조달구매 현황'!O10,'2022년 구매실적(월별) -  자체구매 현황'!O10)","v":{"v":1404526980,"d":"1,404,526,980"}}]
["중소기업제품구매액","계",{"$f":"SUM('2022년 구매실적(월별) -  조달구매 현황'!C11,'2022년 구매실적(월별) -  자체구매 현황'!C11)","v":{"v":29531830,"d":"29,531,830"}},{"$f":"SUM('2022년 구매실적(월별) -  조달구매 현황'!D11,'2022년 구매실적(월별) -  자체구매 현황'!D11)","v":{"v":66021500,"d":"66,021,500"}},{"$f":"SUM('2022년 구매실적(월별) -  조달구매 현황'!E11,'2022년 구매실적(월별) -  자체구매 현황'!E11)","v":{"v":112034910,"d":"112,034,910"}},{"$f":"SUM('2022년 구매실적(월별) -  조달구매 현황'!F11,'2022년 구매실적(월별) -  자체구매 현황'!F11)","v":{"v":367764650,"d":"367,764,650"}},{"$f":"SUM('2022년 구매실적(월별) -  조달구매 현황'!G11,'2022년 구매실적(월별) -  자체구매 현황'!G11)","v":{"v":888512790,"d":"888,512,790"}},{"$f":"SUM('2022년 구매실적(월별) -  조달구매 현황'!H11,'2022년 구매실적(월별) -  자체구매 현황'!H11)","v":{"v":1302191520,"d":"1,302,191,520"}},{"$f":"SUM('2022년 구매실적(월별) -  조달구매 현황'!I11,'2022년 구매실적(월별) -  자체구매 현황'!I11)","v":{"v":230202530,"d":"230,202,530"}},{"$f":"SUM('2022년 구매실적(월별) -  조달구매 현황'!J11,'2022년 구매실적(월별) -  자체구매 현황'!J11)","v":{"v":479665490,"d":"479,665,490"}},{"$f":"SUM('2022년 구매실적(월별) -  조달구매 현황'!K11,'2022년 구매실적(월별) -  자체구매 현황'!K11)","v":{"v":314285130,"d":"314,285,130"}},{"$f":"SUM('2022년 구매실적(월별) -  조달구매 현황'!L11,'2022년 구매실적(월별) -  자체구매 현황'!L11)","v":{"v":410271290,"d":"410,271,290"}},{"$f":"SUM('2022년 구매실적(월별) -  조달구매 현황'!M11,'2022년 구매실적(월별) -  자체구매 현황'!M11)","v":{"v":400472080,"d":"400,472,080"}},{"$f":"SUM('2022년 구매실적(월별) -  조달구매 현황'!N11,'2022년 구매실적(월별) -  자체구매 현황'!N11)","v":{"v":1283661020,"d":"1,283,661,020"}},{"$f":"SUM('2022년 구매실적(월별) -  조달구매 현황'!O11,'2022년 구매실적(월별) -  자체구매 현황'!O11)","v":{"v":5884614740,"d":"5,884,614,740"}}]
[null,"물품",{"$f":"SUM('2022년 구매실적(월별) -  조달구매 현황'!C12,'2022년 구매실적(월별) -  자체구매 현황'!C12)","v":{"v":10606390,"d":"10,606,390"}},{"$f":"SUM('2022년 구매실적(월별) -  조달구매 현황'!D12,'2022년 구매실적(월별) -  자체구매 현황'!D12)","v":{"v":44345000,"d":"44,345,000"}},{"$f":"SUM('2022년 구매실적(월별) -  조달구매 현황'!E12,'2022년 구매실적(월별) -  자체구매 현황'!E12)","v":{"v":70647600,"d":"70,647,600"}},{"$f":"SUM('2022년 구매실적(월별) -  조달구매 현황'!F12,'2022년 구매실적(월별) -  자체구매 현황'!F12)","v":{"v":275376830,"d":"275,376,830"}},{"$f":"SUM('2022년 구매실적(월별) -  조달구매 현황'!G12,'2022년 구매실적(월별) -  자체구매 현황'!G12)","v":{"v":756066420,"d":"756,066,420"}},{"$f":"SUM('2022년 구매실적(월별) -  조달구매 현황'!H12,'2022년 구매실적(월별) -  자체구매 현황'!H12)","v":{"v":263099360,"d":"263,099,360"}},{"$f":"SUM('2022년 구매실적(월별) -  조달구매 현황'!I12,'2022년 구매실적(월별) -  자체구매 현황'!I12)","v":{"v":142581430,"d":"142,581,430"}},{"$f":"SUM('2022년 구매실적(월별) -  조달구매 현황'!J12,'2022년 구매실적(월별) -  자체구매 현황'!J12)","v":{"v":386028110,"d":"386,028,110"}},{"$f":"SUM('2022년 구매실적(월별) -  조달구매 현황'!K12,'2022년 구매실적(월별) -  자체구매 현황'!K12)","v":{"v":224521440,"d":"224,521,440"}},{"$f":"SUM('2022년 구매실적(월별) -  조달구매 현황'!L12,'2022년 구매실적(월별) -  자체구매 현황'!L12)","v":{"v":241332070,"d":"241,332,070"}},{"$f":"SUM('2022년 구매실적(월별) -  조달구매 현황'!M12,'2022년 구매실적(월별) -  자체구매 현황'!M12)","v":{"v":221001360,"d":"221,001,360"}},{"$f":"SUM('2022년 구매실적(월별) -  조달구매 현황'!N12,'2022년 구매실적(월별) -  자체구매 현황'!N12)","v":{"v":439832710,"d":"439,832,710"}},{"$f":"SUM('2022년 구매실적(월별) -  조달구매 현황'!O12,'2022년 구매실적(월별) -  자체구매 현황'!O12)","v":{"v":3075438720,"d":"3,075,438,720"}}]
[null,"공사",{"$f":"SUM('2022년 구매실적(월별) -  조달구매 현황'!C13,'2022년 구매실적(월별) -  자체구매 현황'!C13)","v":{"v":1984000,"d":"1,984,000"}},{"$f":"SUM('2022년 구매실적(월별) -  조달구매 현황'!D13,'2022년 구매실적(월별) -  자체구매 현황'!D13)","v":{"v":4144000,"d":"4,144,000"}},{"$f":"SUM('2022년 구매실적(월별) -  조달구매 현황'!E13,'2022년 구매실적(월별) -  자체구매 현황'!E13)","v":{"v":338000,"d":"338,000"}},{"$f":"SUM('2022년 구매실적(월별) -  조달구매 현황'!F13,'2022년 구매실적(월별) -  자체구매 현황'!F13)","v":{"v":25055000,"d":"25,055,000"}},{"$f":"SUM('2022년 구매실적(월별) -  조달구매 현황'!G13,'2022년 구매실적(월별) -  자체구매 현황'!G13)","v":0},{"$f":"SUM('2022년 구매실적(월별) -  조달구매 현황'!H13,'2022년 구매실적(월별) -  자체구매 현황'!H13)","v":{"v":895597300,"d":"895,597,300"}},{"$f":"SUM('2022년 구매실적(월별) -  조달구매 현황'!I13,'2022년 구매실적(월별) -  자체구매 현황'!I13)","v":{"v":20742000,"d":"20,742,000"}},{"$f":"SUM('2022년 구매실적(월별) -  조달구매 현황'!J13,'2022년 구매실적(월별) -  자체구매 현황'!J13)","v":{"v":36884830,"d":"36,884,830"}},{"$f":"SUM('2022년 구매실적(월별) -  조달구매 현황'!K13,'2022년 구매실적(월별) -  자체구매 현황'!K13)","v":{"v":37210700,"d":"37,210,700"}},{"$f":"SUM('2022년 구매실적(월별) -  조달구매 현황'!L13,'2022년 구매실적(월별) -  자체구매 현황'!L13)","v":{"v":72796590,"d":"72,796,590"}},{"$f":"SUM('2022년 구매실적(월별) -  조달구매 현황'!M13,'2022년 구매실적(월별) -  자체구매 현황'!M13)","v":{"v":100367360,"d":"100,367,360"}},{"$f":"SUM('2022년 구매실적(월별) -  조달구매 현황'!N13,'2022년 구매실적(월별) -  자체구매 현황'!N13)","v":{"v":504805500,"d":"504,805,500"}},{"$f":"SUM('2022년 구매실적(월별) -  조달구매 현황'!O13,'2022년 구매실적(월별) -  자체구매 현황'!O13)","v":{"v":1699925280,"d":"1,699,925,280"}}]
[null,"용역",{"$f":"SUM('2022년 구매실적(월별) -  조달구매 현황'!C14,'2022년 구매실적(월별) -  자체구매 현황'!C14)","v":{"v":16941440,"d":"16,941,440"}},{"$f":"SUM('2022년 구매실적(월별) -  조달구매 현황'!D14,'2022년 구매실적(월별) -  자체구매 현황'!D14)","v":{"v":17532500,"d":"17,532,500"}},{"$f":"SUM('2022년 구매실적(월별) -  조달구매 현황'!E14,'2022년 구매실적(월별) -  자체구매 현황'!E14)","v":{"v":41049310,"d":"41,049,310"}},{"$f":"SUM('2022년 구매실적(월별) -  조달구매 현황'!F14,'2022년 구매실적(월별) -  자체구매 현황'!F14)","v":{"v":67332820,"d":"67,332,820"}},{"$f":"SUM('2022년 구매실적(월별) -  조달구매 현황'!G14,'2022년 구매실적(월별) -  자체구매 현황'!G14)","v":{"v":132446370,"d":"132,446,370"}},{"$f":"SUM('2022년 구매실적(월별) -  조달구매 현황'!H14,'2022년 구매실적(월별) -  자체구매 현황'!H14)","v":{"v":143494860,"d":"143,494,860"}},{"$f":"SUM('2022년 구매실적(월별) -  조달구매 현황'!I14,'2022년 구매실적(월별) -  자체구매 현황'!I14)","v":{"v":66879100,"d":"66,879,100"}},{"$f":"SUM('2022년 구매실적(월별) -  조달구매 현황'!J14,'2022년 구매실적(월별) -  자체구매 현황'!J14)","v":{"v":56752550,"d":"56,752,550"}},{"$f":"SUM('2022년 구매실적(월별) -  조달구매 현황'!K14,'2022년 구매실적(월별) -  자체구매 현황'!K14)","v":{"v":52552990,"d":"52,552,990"}},{"$f":"SUM('2022년 구매실적(월별) -  조달구매 현황'!L14,'2022년 구매실적(월별) -  자체구매 현황'!L14)","v":{"v":96142630,"d":"96,142,630"}},{"$f":"SUM('2022년 구매실적(월별) -  조달구매 현황'!M14,'2022년 구매실적(월별) -  자체구매 현황'!M14)","v":{"v":79103360,"d":"79,103,360"}},{"$f":"SUM('2022년 구매실적(월별) -  조달구매 현황'!N14,'2022년 구매실적(월별) -  자체구매 현황'!N14)","v":{"v":339022810,"d":"339,022,810"}},{"$f":"SUM('2022년 구매실적(월별) -  조달구매 현황'!O14,'2022년 구매실적(월별) -  자체구매 현황'!O14)","v":{"v":1109250740,"d":"1,109,250,740"}}]
["여성기업제품구매액","계",{"$f":"SUM('2022년 구매실적(월별) -  조달구매 현황'!C15,'2022년 구매실적(월별) -  자체구매 현황'!C15)","v":{"v":77000,"d":"77,000"}},{"$f":"SUM('2022년 구매실적(월별) -  조달구매 현황'!D15,'2022년 구매실적(월별) -  자체구매 현황'!D15)","v":{"v":4372800,"d":"4,372,800"}},{"$f":"SUM('2022년 구매실적(월별) -  조달구매 현황'!E15,'2022년 구매실적(월별) -  자체구매 현황'!E15)","v":{"v":27032420,"d":"27,032,420"}},{"$f":"SUM('2022년 구매실적(월별) -  조달구매 현황'!F15,'2022년 구매실적(월별) -  자체구매 현황'!F15)","v":{"v":49811980,"d":"49,811,980"}},{"$f":"SUM('2022년 구매실적(월별) -  조달구매 현황'!G15,'2022년 구매실적(월별) -  자체구매 현황'!G15)","v":{"v":21804530,"d":"21,804,530"}},{"$f":"SUM('2022년 구매실적(월별) -  조달구매 현황'!H15,'2022년 구매실적(월별) -  자체구매 현황'!H15)","v":{"v":155356740,"d":"155,356,740"}},{"$f":"SUM('2022년 구매실적(월별) -  조달구매 현황'!I15,'2022년 구매실적(월별) -  자체구매 현황'!I15)","v":{"v":20362440,"d":"20,362,440"}},{"$f":"SUM('2022년 구매실적(월별) -  조달구매 현황'!J15,'2022년 구매실적(월별) -  자체구매 현황'!J15)","v":{"v":41621980,"d":"41,621,980"}},{"$f":"SUM('2022년 구매실적(월별) -  조달구매 현황'!K15,'2022년 구매실적(월별) -  자체구매 현황'!K15)","v":{"v":32830510,"d":"32,830,510"}},{"$f":"SUM('2022년 구매실적(월별) -  조달구매 현황'!L15,'2022년 구매실적(월별) -  자체구매 현황'!L15)","v":{"v":30207280,"d":"30,207,280"}},{"$f":"SUM('2022년 구매실적(월별) -  조달구매 현황'!M15,'2022년 구매실적(월별) -  자체구매 현황'!M15)","v":{"v":54377350,"d":"54,377,350"}},{"$f":"SUM('2022년 구매실적(월별) -  조달구매 현황'!N15,'2022년 구매실적(월별) -  자체구매 현황'!N15)","v":{"v":144535120,"d":"144,535,120"}},{"$f":"SUM('2022년 구매실적(월별) -  조달구매 현황'!O15,'2022년 구매실적(월별) -  자체구매 현황'!O15)","v":{"v":582390150,"d":"582,390,150"}}]
[null,"물품",{"$f":"SUM('2022년 구매실적(월별) -  조달구매 현황'!C16,'2022년 구매실적(월별) -  자체구매 현황'!C16)","v":{"v":77000,"d":"77,000"}},{"$f":"SUM('2022년 구매실적(월별) -  조달구매 현황'!D16,'2022년 구매실적(월별) -  자체구매 현황'!D16)","v":{"v":4372800,"d":"4,372,800"}},{"$f":"SUM('2022년 구매실적(월별) -  조달구매 현황'!E16,'2022년 구매실적(월별) -  자체구매 현황'!E16)","v":{"v":13080920,"d":"13,080,920"}},{"$f":"SUM('2022년 구매실적(월별) -  조달구매 현황'!F16,'2022년 구매실적(월별) -  자체구매 현황'!F16)","v":{"v":39800500,"d":"39,800,500"}},{"$f":"SUM('2022년 구매실적(월별) -  조달구매 현황'!G16,'2022년 구매실적(월별) -  자체구매 현황'!G16)","v":{"v":21804530,"d":"21,804,530"}},{"$f":"SUM('2022년 구매실적(월별) -  조달구매 현황'!H16,'2022년 구매실적(월별) -  자체구매 현황'!H16)","v":{"v":30940040,"d":"30,940,040"}},{"$f":"SUM('2022년 구매실적(월별) -  조달구매 현황'!I16,'2022년 구매실적(월별) -  자체구매 현황'!I16)","v":{"v":14653920,"d":"14,653,920"}},{"$f":"SUM('2022년 구매실적(월별) -  조달구매 현황'!J16,'2022년 구매실적(월별) -  자체구매 현황'!J16)","v":{"v":15685480,"d":"15,685,480"}},{"$f":"SUM('2022년 구매실적(월별) -  조달구매 현황'!K16,'2022년 구매실적(월별) -  자체구매 현황'!K16)","v":{"v":19371560,"d":"19,371,560"}},{"$f":"SUM('2022년 구매실적(월별) -  조달구매 현황'!L16,'2022년 구매실적(월별) -  자체구매 현황'!L16)","v":{"v":16690380,"d":"16,690,380"}},{"$f":"SUM('2022년 구매실적(월별) -  조달구매 현황'!M16,'2022년 구매실적(월별) -  자체구매 현황'!M16)","v":{"v":30991950,"d":"30,991,950"}},{"$f":"SUM('2022년 구매실적(월별) -  조달구매 현황'!N16,'2022년 구매실적(월별) -  자체구매 현황'!N16)","v":{"v":25696820,"d":"25,696,820"}},{"$f":"SUM('2022년 구매실적(월별) -  조달구매 현황'!O16,'2022년 구매실적(월별) -  자체구매 현황'!O16)","v":{"v":233165900,"d":"233,165,900"}}]
[null,"공사",{"$f":"SUM('2022년 구매실적(월별) -  조달구매 현황'!C17,'2022년 구매실적(월별) -  자체구매 현황'!C17)","v":0},{"$f":"SUM('2022년 구매실적(월별) -  조달구매 현황'!D17,'2022년 구매실적(월별) -  자체구매 현황'!D17)","v":0},{"$f":"SUM('2022년 구매실적(월별) -  조달구매 현황'!E17,'2022년 구매실적(월별) -  자체구매 현황'!E17)","v":0},{"$f":"SUM('2022년 구매실적(월별) -  조달구매 현황'!F17,'2022년 구매실적(월별) -  자체구매 현황'!F17)","v":{"v":3520000,"d":"3,520,000"}},{"$f":"SUM('2022년 구매실적(월별) -  조달구매 현황'!G17,'2022년 구매실적(월별) -  자체구매 현황'!G17)","v":0},{"$f":"SUM('2022년 구매실적(월별) -  조달구매 현황'!H17,'2022년 구매실적(월별) -  자체구매 현황'!H17)","v":{"v":117883000,"d":"117,883,000"}},{"$f":"SUM('2022년 구매실적(월별) -  조달구매 현황'!I17,'2022년 구매실적(월별) -  자체구매 현황'!I17)","v":0},{"$f":"SUM('2022년 구매실적(월별) -  조달구매 현황'!J17,'2022년 구매실적(월별) -  자체구매 현황'!J17)","v":{"v":7667500,"d":"7,667,500"}},{"$f":"SUM('2022년 구매실적(월별) -  조달구매 현황'!K17,'2022년 구매실적(월별) -  자체구매 현황'!K17)","v":{"v":1936000,"d":"1,936,000"}},{"$f":"SUM('2022년 구매실적(월별) -  조달구매 현황'!L17,'2022년 구매실적(월별) -  자체구매 현황'!L17)","v":0},{"$f":"SUM('2022년 구매실적(월별) -  조달구매 현황'!M17,'2022년 구매실적(월별) -  자체구매 현황'!M17)","v":{"v":4244000,"d":"4,244,000"}},{"$f":"SUM('2022년 구매실적(월별) -  조달구매 현황'!N17,'2022년 구매실적(월별) -  자체구매 현황'!N17)","v":{"v":90592300,"d":"90,592,300"}},{"$f":"SUM('2022년 구매실적(월별) -  조달구매 현황'!O17,'2022년 구매실적(월별) -  자체구매 현황'!O17)","v":{"v":225842800,"d":"225,842,800"}}]
[null,"용역",{"$f":"SUM('2022년 구매실적(월별) -  조달구매 현황'!C18,'2022년 구매실적(월별) -  자체구매 현황'!C18)","v":0},{"$f":"SUM('2022년 구매실적(월별) -  조달구매 현황'!D18,'2022년 구매실적(월별) -  자체구매 현황'!D18)","v":0},{"$f":"SUM('2022년 구매실적(월별) -  조달구매 현황'!E18,'2022년 구매실적(월별) -  자체구매 현황'!E18)","v":{"v":13951500,"d":"13,951,500"}},{"$f":"SUM('2022년 구매실적(월별) -  조달구매 현황'!F18,'2022년 구매실적(월별) -  자체구매 현황'!F18)","v":{"v":6491480,"d":"6,491,480"}},{"$f":"SUM('2022년 구매실적(월별) -  조달구매 현황'!G18,'2022년 구매실적(월별) -  자체구매 현황'!G18)","v":0},{"$f":"SUM('2022년 구매실적(월별) -  조달구매 현황'!H18,'2022년 구매실적(월별) -  자체구매 현황'!H18)","v":{"v":6533700,"d":"6,533,700"}},{"$f":"SUM('2022년 구매실적(월별) -  조달구매 현황'!I18,'2022년 구매실적(월별) -  자체구매 현황'!I18)","v":{"v":5708520,"d":"5,708,520"}},{"$f":"SUM('2022년 구매실적(월별) -  조달구매 현황'!J18,'2022년 구매실적(월별) -  자체구매 현황'!J18)","v":{"v":18269000,"d":"18,269,000"}},{"$f":"SUM('2022년 구매실적(월별) -  조달구매 현황'!K18,'2022년 구매실적(월별) -  자체구매 현황'!K18)","v":{"v":11522950,"d":"11,522,950"}},{"$f":"SUM('2022년 구매실적(월별) -  조달구매 현황'!L18,'2022년 구매실적(월별) -  자체구매 현황'!L18)","v":{"v":13516900,"d":"13,516,900"}},{"$f":"SUM('2022년 구매실적(월별) -  조달구매 현황'!M18,'2022년 구매실적(월별) -  자체구매 현황'!M18)","v":{"v":19141400,"d":"19,141,400"}},{"$f":"SUM('2022년 구매실적(월별) -  조달구매 현황'!N18,'2022년 구매실적(월별) -  자체구매 현황'!N18)","v":{"v":28246000,"d":"28,246,000"}},{"$f":"SUM('2022년 구매실적(월별) -  조달구매 현황'!O18,'2022년 구매실적(월별) -  자체구매 현황'!O18)","v":{"v":123381450,"d":"123,381,450"}}]
["장애인기업제품구매액","계",{"$f":"SUM('2022년 구매실적(월별) -  조달구매 현황'!C19,'2022년 구매실적(월별) -  자체구매 현황'!C19)","v":{"v":792000,"d":"792,000"}},{"$f":"SUM('2022년 구매실적(월별) -  조달구매 현황'!D19,'2022년 구매실적(월별) -  자체구매 현황'!D19)","v":0},{"$f":"SUM('2022년 구매실적(월별) -  조달구매 현황'!E19,'2022년 구매실적(월별) -  자체구매 현황'!E19)","v":{"v":5471000,"d":"5,471,000"}},{"$f":"SUM('2022년 구매실적(월별) -  조달구매 현황'!F19,'2022년 구매실적(월별) -  자체구매 현황'!F19)","v":{"v":3233000,"d":"3,233,000"}},{"$f":"SUM('2022년 구매실적(월별) -  조달구매 현황'!G19,'2022년 구매실적(월별) -  자체구매 현황'!G19)","v":{"v":6142000,"d":"6,142,000"}},{"$f":"SUM('2022년 구매실적(월별) -  조달구매 현황'!H19,'2022년 구매실적(월별) -  자체구매 현황'!H19)","v":{"v":1925000,"d":"1,925,000"}},{"$f":"SUM('2022년 구매실적(월별) -  조달구매 현황'!I19,'2022년 구매실적(월별) -  자체구매 현황'!I19)","v":{"v":3175610,"d":"3,175,610"}},{"$f":"SUM('2022년 구매실적(월별) -  조달구매 현황'!J19,'2022년 구매실적(월별) -  자체구매 현황'!J19)","v":{"v":7714900,"d":"7,714,900"}},{"$f":"SUM('2022년 구매실적(월별) -  조달구매 현황'!K19,'2022년 구매실적(월별) -  자체구매 현황'!K19)","v":{"v":1176400,"d":"1,176,400"}},{"$f":"SUM('2022년 구매실적(월별) -  조달구매 현황'!L19,'2022년 구매실적(월별) -  자체구매 현황'!L19)","v":{"v":8011800,"d":"8,011,800"}},{"$f":"SUM('2022년 구매실적(월별) -  조달구매 현황'!M19,'2022년 구매실적(월별) -  자체구매 현황'!M19)","v":{"v":4746600,"d":"4,746,600"}},{"$f":"SUM('2022년 구매실적(월별) -  조달구매 현황'!N19,'2022년 구매실적(월별) -  자체구매 현황'!N19)","v":{"v":23893600,"d":"23,893,600"}},{"$f":"SUM('2022년 구매실적(월별) -  조달구매 현황'!O19,'2022년 구매실적(월별) -  자체구매 현황'!O19)","v":{"v":66281910,"d":"66,281,910"}}]
[null,"물품",{"$f":"SUM('2022년 구매실적(월별) -  조달구매 현황'!C20,'2022년 구매실적(월별) -  자체구매 현황'!C20)","v":{"v":792000,"d":"792,000"}},{"$f":"SUM('2022년 구매실적(월별) -  조달구매 현황'!D20,'2022년 구매실적(월별) -  자체구매 현황'!D20)","v":0},{"$f":"SUM('2022년 구매실적(월별) -  조달구매 현황'!E20,'2022년 구매실적(월별) -  자체구매 현황'!E20)","v":{"v":5471000,"d":"5,471,000"}},{"$f":"SUM('2022년 구매실적(월별) -  조달구매 현황'!F20,'2022년 구매실적(월별) -  자체구매 현황'!F20)","v":{"v":3233000,"d":"3,233,000"}},{"$f":"SUM('2022년 구매실적(월별) -  조달구매 현황'!G20,'2022년 구매실적(월별) -  자체구매 현황'!G20)","v":{"v":6142000,"d":"6,142,000"}},{"$f":"SUM('2022년 구매실적(월별) -  조달구매 현황'!H20,'2022년 구매실적(월별) -  자체구매 현황'!H20)","v":{"v":1925000,"d":"1,925,000"}},{"$f":"SUM('2022년 구매실적(월별) -  조달구매 현황'!I20,'2022년 구매실적(월별) -  자체구매 현황'!I20)","v":{"v":3175610,"d":"3,175,610"}},{"$f":"SUM('2022년 구매실적(월별) -  조달구매 현황'!J20,'2022년 구매실적(월별) -  자체구매 현황'!J20)","v":{"v":7714900,"d":"7,714,900"}},{"$f":"SUM('2022년 구매실적(월별) -  조달구매 현황'!K20,'2022년 구매실적(월별) -  자체구매 현황'!K20)","v":{"v":1176400,"d":"1,176,400"}},{"$f":"SUM('2022년 구매실적(월별) -  조달구매 현황'!L20,'2022년 구매실적(월별) -  자체구매 현황'!L20)","v":{"v":8011800,"d":"8,011,800"}},{"$f":"SUM('2022년 구매실적(월별) -  조달구매 현황'!M20,'2022년 구매실적(월별) -  자체구매 현황'!M20)","v":{"v":4746600,"d":"4,746,600"}},{"$f":"SUM('2022년 구매실적(월별) -  조달구매 현황'!N20,'2022년 구매실적(월별) -  자체구매 현황'!N20)","v":{"v":18013600,"d":"18,013,600"}},{"$f":"SUM('2022년 구매실적(월별) -  조달구매 현황'!O20,'2022년 구매실적(월별) -  자체구매 현황'!O20)","v":{"v":60401910,"d":"60,401,910"}}]
[null,"공사",{"$f":"SUM('2022년 구매실적(월별) -  조달구매 현황'!C21,'2022년 구매실적(월별) -  자체구매 현황'!C21)","v":0},{"$f":"SUM('2022년 구매실적(월별) -  조달구매 현황'!D21,'2022년 구매실적(월별) -  자체구매 현황'!D21)","v":0},{"$f":"SUM('2022년 구매실적(월별) -  조달구매 현황'!E21,'2022년 구매실적(월별) -  자체구매 현황'!E21)","v":0},{"$f":"SUM('2022년 구매실적(월별) -  조달구매 현황'!F21,'2022년 구매실적(월별) -  자체구매 현황'!F21)","v":0},{"$f":"SUM('2022년 구매실적(월별) -  조달구매 현황'!G21,'2022년 구매실적(월별) -  자체구매 현황'!G21)","v":0},{"$f":"SUM('2022년 구매실적(월별) -  조달구매 현황'!H21,'2022년 구매실적(월별) -  자체구매 현황'!H21)","v":0},{"$f":"SUM('2022년 구매실적(월별) -  조달구매 현황'!I21,'2022년 구매실적(월별) -  자체구매 현황'!I21)","v":0},{"$f":"SUM('2022년 구매실적(월별) -  조달구매 현황'!J21,'2022년 구매실적(월별) -  자체구매 현황'!J21)","v":0},{"$f":"SUM('2022년 구매실적(월별) -  조달구매 현황'!K21,'2022년 구매실적(월별) -  자체구매 현황'!K21)","v":0},{"$f":"SUM('2022년 구매실적(월별) -  조달구매 현황'!L21,'2022년 구매실적(월별) -  자체구매 현황'!L21)","v":0},{"$f":"SUM('2022년 구매실적(월별) -  조달구매 현황'!M21,'2022년 구매실적(월별) -  자체구매 현황'!M21)","v":0},{"$f":"SUM('2022년 구매실적(월별) -  조달구매 현황'!N21,'2022년 구매실적(월별) -  자체구매 현황'!N21)","v":{"v":5880000,"d":"5,880,000"}},{"$f":"SUM('2022년 구매실적(월별) -  조달구매 현황'!O21,'2022년 구매실적(월별) -  자체구매 현황'!O21)","v":{"v":5880000,"d":"5,880,000"}}]
[null,"용역",{"$f":"SUM('2022년 구매실적(월별) -  조달구매 현황'!C22,'2022년 구매실적(월별) -  자체구매 현황'!C22)","v":0},{"$f":"SUM('2022년 구매실적(월별) -  조달구매 현황'!D22,'2022년 구매실적(월별) -  자체구매 현황'!D22)","v":0},{"$f":"SUM('2022년 구매실적(월별) -  조달구매 현황'!E22,'2022년 구매실적(월별) -  자체구매 현황'!E22)","v":0},{"$f":"SUM('2022년 구매실적(월별) -  조달구매 현황'!F22,'2022년 구매실적(월별) -  자체구매 현황'!F22)","v":0},{"$f":"SUM('2022년 구매실적(월별) -  조달구매 현황'!G22,'2022년 구매실적(월별) -  자체구매 현황'!G22)","v":0},{"$f":"SUM('2022년 구매실적(월별) -  조달구매 현황'!H22,'2022년 구매실적(월별) -  자체구매 현황'!H22)","v":0},{"$f":"SUM('2022년 구매실적(월별) -  조달구매 현황'!I22,'2022년 구매실적(월별) -  자체구매 현황'!I22)","v":0},{"$f":"SUM('2022년 구매실적(월별) -  조달구매 현황'!J22,'2022년 구매실적(월별) -  자체구매 현황'!J22)","v":0},{"$f":"SUM('2022년 구매실적(월별) -  조달구매 현황'!K22,'2022년 구매실적(월별) -  자체구매 현황'!K22)","v":0},{"$f":"SUM('2022년 구매실적(월별) -  조달구매 현황'!L22,'2022년 구매실적(월별) -  자체구매 현황'!L22)","v":0},{"$f":"SUM('2022년 구매실적(월별) -  조달구매 현황'!M22,'2022년 구매실적(월별) -  자체구매 현황'!M22)","v":0},{"$f":"SUM('2022년 구매실적(월별) -  조달구매 현황'!N22,'2022년 구매실적(월별) -  자체구매 현황'!N22)","v":0},{"$f":"SUM('2022년 구매실적(월별) -  조달구매 현황'!O22,'2022년 구매실적(월별) -  자체구매 현황'!O22)","v":0}]
[]
[null,"구분","2022년도 (실적)",{"$nulls":11},"합계"]
[null,null,"1월","2월","3월","4월","5월","6월","7월","8월","9월","10월","11월","12월"]
["기술개발제품","본부",{"$f":"SUM('2022년 구매실적(월별) -  조달구매 현황'!C26,'2022년 구매실적(월별) -  자체구매 현황'!C26)","v":0},{"$f":"SUM('2022년 구매실적(월별) -  조달구매 현황'!D26,'2022년 구매실적(월별) -  자체구매 현황'!D26)","v":0},{"$f":"SUM('2022년 구매실적(월별) -  조달구매 현황'!E26,'2022년 구매실적(월별) -  자체구매 현황'!E26)","v":0},{"$f":"SUM('2022년 구매실적(월별) -  조달구매 현황'!F26,'2022년 구매실적(월별) -  자체구매 현황'!F26)","v":0},{"$f":"SUM('2022년 구매실적(월별) -  조달구매 현황'!G26,'2022년 구매실적(월별) -  자체구매 현황'!G26)","v":{"v":43196540,"d":"43,196,540"}},{"$f":"SUM('2022년 구매실적(월별) -  조달구매 현황'!H26,'2022년 구매실적(월별) -  자체구매 현황'!H26)","v":0},{"$f":"SUM('2022년 구매실적(월별) -  조달구매 현황'!I26,'2022년 구매실적(월별) -  자체구매 현황'!I26)","v":{"v":1925000,"d":"1,925,000"}},{"$f":"SUM('2022년 구매실적(월별) -  조달구매 현황'!J26,'2022년 구매실적(월별) -  자체구매 현황'!J26)","v":0},{"$f":"SUM('2022년 구매실적(월별) -  조달구매 현황'!K26,'2022년 구매실적(월별) -  자체구매 현황'!K26)","v":0},{"$f":"SUM('2022년 구매실적(월별) -  조달구매 현황'!L26,'2022년 구매실적(월별) -  자체구매 현황'!L26)","v":0},{"$f":"SUM('2022년 구매실적(월별) -  조달구매 현황'!M26,'2022년 구매실적(월별) -  자체구매 현황'!M26)","v":0},{"$f":"SUM('2022년 구매실적(월별) -  조달구매 현황'!N26,'2022년 구매실적(월별) -  자체구매 현황'!N26)","v":{"v":831600,"d":"831,600"}},{"$f":"SUM('2022년 구매실적(월별) -  조달구매 현황'!O26,'2022년 구매실적(월별) -  자체구매 현황'!O26)","v":{"v":45953140,"d":"45,953,140"}}]
[null,"소속기관",{"$f":"SUM('2022년 구매실적(월별) -  조달구매 현황'!C27,'2022년 구매실적(월별) -  자체구매 현황'!C27)","v":0},{"$f":"SUM('2022년 구매실적(월별) -  조달구매 현황'!D27,'2022년 구매실적(월별) -  자체구매 현황'!D27)","v":0},{"$f":"SUM('2022년 구매실적(월별) -  조달구매 현황'!E27,'2022년 구매실적(월별) -  자체구매 현황'!E27)","v":0},{"$f":"SUM('2022년 구매실적(월별) -  조달구매 현황'!F27,'2022년 구매실적(월별) -  자체구매 현황'!F27)","v":0},{"$f":"SUM('2022년 구매실적(월별) -  조달구매 현황'!G27,'2022년 구매실적(월별) -  자체구매 현황'!G27)","v":0},{"$f":"SUM('2022년 구매실적(월별) -  조달구매 현황'!H27,'2022년 구매실적(월별) -  자체구매 현황'!H27)","v":0},{"$f":"SUM('2022년 구매실적(월별) -  조달구매 현황'!I27,'2022년 구매실적(월별) -  자체구매 현황'!I27)","v":0},{"$f":"SUM('2022년 구매실적(월별) -  조달구매 현황'!J27,'2022년 구매실적(월별) -  자체구매 현황'!J27)","v":0},{"$f":"SUM('2022년 구매실적(월별) -  조달구매 현황'!K27,'2022년 구매실적(월별) -  자체구매 현황'!K27)","v":0},{"$f":"SUM('2022년 구매실적(월별) -  조달구매 현황'!L27,'2022년 구매실적(월별) -  자체구매 현황'!L27)","v":0},{"$f":"SUM('2022년 구매실적(월별) -  조달구매 현황'!M27,'2022년 구매실적(월별) -  자체구매 현황'!M27)","v":0},{"$f":"SUM('2022년 구매실적(월별) -  조달구매 현황'!N27,'2022년 구매실적(월별) -  자체구매 현황'!N27)","v":0},{"$f":"SUM('2022년 구매실적(월별) -  조달구매 현황'!O27,'2022년 구매실적(월별) -  자체구매 현황'!O27)","v":0}]
[null,"계",{"$f":"SUM('2022년 구매실적(월별) -  조달구매 현황'!C28,'2022년 구매실적(월별) -  자체구매 현황'!C28)","v":0},{"$f":"SUM('2022년 구매실적(월별) -  조달구매 현황'!D28,'2022년 구매실적(월별) -  자체구매 현황'!D28)","v":0},{"$f":"SUM('2022년 구매실적(월별) -  조달구매 현황'!E28,'2022년 구매실적(월별) -  자체구매 현황'!E28)","v":0},{"$f":"SUM('2022년 구매실적(월별) -  조달구매 현황'!F28,'2022년 구매실적(월별) -  자체구매 현황'!F28)","v":0},{"$f":"SUM('2022년 구매실적(월별) -  조달구매 현황'!G28,'2022년 구매실적(월별) -  자체구매 현황'!G28)","v":{"v":43196540,"d":"43,196,540"}},{"$f":"SUM('2022년 구매실적(월별) -  조달구매 현황'!H28,'2022년 구매실적(월별) -  자체구매 현황'!H28)","v":0},{"$f":"SUM('2022년 구매실적(월별) -  조달구매 현황'!I28,'2022년 구매실적(월별) -  자체구매 현황'!I28)","v":{"v":1925000,"d":"1,925,000"}},{"$f":"SUM('2022년 구매실적(월별) -  조달구매 현황'!J28,'2022년 구매실적(월별) -  자체구매 현황'!J28)","v":0},{"$f":"SUM('2022년 구매실적(월별) -  조달구매 현황'!K28,'2022년 구매실적(월별) -  자체구매 현황'!K28)","v":0},{"$f":"SUM('2022년 구매실적(월별) -  조달구매 현황'!L28,'2022년 구매실적(월별) -  자체구매 현황'!L28)","v":0},{"$f":"SUM('2022년 구매실적(월별) -  조달구매 현황'!M28,'2022년 구매실적(월별) -  자체구매 현황'!M28)","v":0},{"$f":"SUM('2022년 구매실적(월별) -  조달구매 현황'!N28,'2022년 구매실적(월별) -  자체구매 현황'!N28)","v":{"v":831600,"d":"831,600"}},{"$f":"SUM('2022년 구매실적(월별) -  조달구매 현황'!O28,'2022년 구매실적(월별) -  자체구매 현황'!O28)","v":0}]
[]
[null,"구분","2022년도 (실적)",{"$nulls":11},"합계"]
[null,null,"1월","2월","3월","4월","5월","6월","7월","8월","9월","10월","11월","12월"]
["공사용자재직접구매실적","본부",{"$f":"SUM('2022년 구매실적(월별) -  조달구매 현황'!C32,'2022년 구매실적(월별) -  자체구매 현황'!C32)","v":0},{"$f":"SUM('2022년 구매실적(월별) -  조달구매 현황'!D32,'2022년 구매실적(월별) -  자체구매 현황'!D32)","v":0},{"$f":"SUM('2022년 구매실적(월별) -  조달구매 현황'!E32,'2022년 구매실적(월별) -  자체구매 현황'!E32)","v":0},{"$f":"SUM('2022년 구매실적(월별) -  조달구매 현황'!F32,'2022년 구매실적(월별) -  자체구매 현황'!F32)","v":0},{"$f":"SUM('2022년 구매실적(월별) -  조달구매 현황'!G32,'2022년 구매실적(월별) -  자체구매 현황'!G32)","v":0},{"$f":"SUM('2022년 구매실적(월별) -  조달구매 현황'!H32,'2022년 구매실적(월별) -  자체구매 현황'!H32)","v":0},{"$f":"SUM('2022년 구매실적(월별) -  조달구매 현황'!I32,'2022년 구매실적(월별) -  자체구매 현황'!I32)","v":0},{"$f":"SUM('2022년 구매실적(월별) -  조달구매 현황'!J32,'2022년 구매실적(월별) -  자체구매 현황'!J32)","v":0},{"$f":"SUM('2022년 구매실적(월별) -  조달구매 현황'!K32,'2022년 구매실적(월별) -  자체구매 현황'!K32)","v":0},{"$f":"SUM('2022년 구매실적(월별) -  조달구매 현황'!L32,'2022년 구매실적(월별) -  자체구매 현황'!L32)","v":0},{"$f":"SUM('2022년 구매실적(월별) -  조달구매 현황'!M32,'2022년 구매실적(월별) -  자체구매 현황'!M32)","v":0},{"$f":"SUM('2022년 구매실적(월별) -  조달구매 현황'!N32,'2022년 구매실적(월별) -  자체구매 현황'!N32)","v":0},{"$f":"SUM('2022년 구매실적(월별) -  조달구매 현황'!O32,'2022년 구매실적(월별) -  자체구매 현황'!O32)","v":0}]
[null,"소속기관",{"$f":"SUM('2022년 구매실적(월별) -  조달구매 현황'!C33,'2022년 구매실적(월별) -  자체구매 현황'!C33)","v":0},{"$f":"SUM('2022년 구매실적(월별) -  조달구매 현황'!D33,'2022년 구매실적(월별) -  자체구매 현황'!D33)","v":0},{"$f":"SUM('2022년 구매실적(월별) -  조달구매 현황'!E33,'2022년 구매실적(월별) -  자체구매 현황'!E33)","v":0},{"$f":"SUM('2022년 구매실적(월별) -  조달구매 현황'!F33,'2022년 구매실적(월별) -  자체구매 현황'!F33)","v":0},{"$f":"SUM('2022년 구매실적(월별) -  조달구매 현황'!G33,'2022년 구매실적(월별) -  자체구매 현황'!G33)","v":0},{"$f":"SUM('2022년 구매실적(월별) -  조달구매 현황'!H33,'2022년 구매실적(월별) -  자체구매 현황'!H33)","v":0},{"$f":"SUM('2022년 구매실적(월별) -  조달구매 현황'!I33,'2022년 구매실적(월별) -  자체구매 현황'!I33)","v":0},{"$f":"SUM('2022년 구매실적(월별) -  조달구매 현황'!J33,'2022년 구매실적(월별) -  자체구매 현황'!J33)","v":0},{"$f":"SUM('2022년 구매실적(월별) -  조달구매 현황'!K33,'2022년 구매실적(월별) -  자체구매 현황'!K33)","v":0},{"$f":"SUM('2022년 구매실적(월별) -  조달구매 현황'!L33,'2022년 구매실적(월별) -  자체구매 현황'!L33)","v":0},{"$f":"SUM('2022년 구매실적(월별) -  조달구매 현황'!M33,'2022년 구매실적(월별) -  자체구매 현황'!M33)","v":0},{"$f":"SUM('2022년 구매실적(월별) -  조달구매 현황'!N33,'2022년 구매실적(월별) -  자체구매 현황'!N33)","v":0},{"$f":"SUM('2022년 구매실적(월별) -  조달구매 현황'!O33,'2022년 구매실적(월별) -  자체구매 현황'!O33)","v":0}]
[null,"계",{"$f":"SUM('2022년 구매실적(월별) -  조달구매 현황'!C34,'2022년 구매실적(월별) -  자체구매 현황'!C34)","v":0},{"$f":"SUM('2022년 구매실적(월별) -  조달구매 현황'!D34,'2022년 구매실적(월별) -  자체구매 현황'!D34)","v":0},{"$f":"SUM('2022년 구매실적(월별) -  조달구매 현황'!E34,'2022년 구매실적(월별) -  자체구매 현황'!E34)","v":0},{"$f":"SUM('2022년 구매실적(월별) -  조달구매 현황'!F34,'2022년 구매실적(월별) -  자체구매 현황'!F34)","v":0},{"$f":"SUM('2022년 구매실적(월별) -  조달구매 현황'!G34,'2022년 구매실적(월별) -  자체구매 현황'!G34)","v":0},{"$f":"SUM('2022년 구매실적(월별) -  조달구매 현황'!H34,'2022년 구매실적(월별) -  자체구매 현황'!H34)","v":0},{"$f":"SUM('2022년 구매실적(월별) -  조달구매 현황'!I34,'2022년 구매실적(월별) -  자체구매 현황'!I34)","v":0},{"$f":"SUM('2022년 구매실적(월별) -  조달구매 현황'!J34,'2022년 구매실적(월별) -  자체구매 현황'!J34)","v":0},{"$f":"SUM('2022년 구매실적(월별) -  조달구매 현황'!K34,'2022년 구매실적(월별) -  자체구매 현황'!K34)","v":0},{"$f":"SUM('2022년 구매실적(월별) -  조달구매 현황'!L34,'2022년 구매실적(월별) -  자체구매 현황'!L34)","v":0},{"$f":"SUM('2022년 구매실적(월별) -  조달구매 현황'!M34,'2022년 구매실적(월별) -  자체구매 현황'!M34)","v":0},{"$f":"SUM('2022년 구매실적(월별) -  조달구매 현황'!N34,'2022년 구매실적(월별) -  자체구매 현황'!N34)","v":0},{"$f":"SUM('2022년 구매실적(월별) -  조달구매 현황'!O34,'2022년 구매실적(월별) -  자체구매 현황'!O34)","v":0}]
[]
["Copyright(c) 중소기업제품 공공구매 종합정보망(smpp)"]